BEGIN:VCALENDAR
VERSION:2.0
PRODID:-//Father Nathan Castle, O.P. - ECPv6.15.16.1//NONSGML v1.0//EN
CALSCALE:GREGORIAN
METHOD:PUBLISH
X-WR-CALNAME:Father Nathan Castle, O.P.
X-ORIGINAL-URL:https://nathan-castle.com
X-WR-CALDESC:Events for Father Nathan Castle, O.P.
REFRESH-INTERVAL;VALUE=DURATION:PT1H
X-Robots-Tag:noindex
X-PUBLISHED-TTL:PT1H
BEGIN:VTIMEZONE
TZID:America/Phoenix
BEGIN:STANDARD
TZOFFSETFROM:-0700
TZOFFSETTO:-0700
TZNAME:MST
DTSTART:20250101T000000
END:STANDARD
END:VTIMEZONE
BEGIN:VEVENT
DTSTART;VALUE=DATE:20260505
DTEND;VALUE=DATE:20260508
DTSTAMP:20260425T032211
CREATED:20260420T205417Z
LAST-MODIFIED:20260420T205417Z
UID:27778-1777939200-1778198399@nathan-castle.com
SUMMARY:Tucson Priests' Convocation
DESCRIPTION:I’ll be joining Bishop James Misko and the priests of the Diocese of Tucson for two days of convocation in Chandler\, Az.
URL:https://nathan-castle.com/events/tucson-priests-convocation/
LOCATION:AZ
END:VEVENT
END:VCALENDAR