BEGIN:VCALENDAR
VERSION:2.0
PRODID:-//Father Nathan Castle, O.P. - ECPv6.15.16.1//NONSGML v1.0//EN
CALSCALE:GREGORIAN
METHOD:PUBLISH
X-ORIGINAL-URL:https://nathan-castle.com
X-WR-CALDESC:Events for Father Nathan Castle, O.P.
REFRESH-INTERVAL;VALUE=DURATION:PT1H
X-Robots-Tag:noindex
X-PUBLISHED-TTL:PT1H
BEGIN:VTIMEZONE
TZID:America/Phoenix
BEGIN:STANDARD
TZOFFSETFROM:-0700
TZOFFSETTO:-0700
TZNAME:MST
DTSTART:20250101T000000
END:STANDARD
END:VTIMEZONE
BEGIN:VEVENT
DTSTART;TZID=America/Phoenix:20260513T171500
DTEND;TZID=America/Phoenix:20260513T174500
DTSTAMP:20260425T130056
CREATED:20260420T210146Z
LAST-MODIFIED:20260420T210146Z
UID:27786-1778692500-1778694300@nathan-castle.com
SUMMARY:Mass and Preaching
DESCRIPTION:
URL:https://nathan-castle.com/events/mass-and-preaching-437/
LOCATION:St. Thomas More Newman Center\, 1615 E 2nd Street\, Tucson\, AZ\, 85719\, United States
END:VEVENT
END:VCALENDAR