BEGIN:VCALENDAR
VERSION:2.0
PRODID:-//Father Nathan Castle, O.P. - ECPv6.15.16.1//NONSGML v1.0//EN
CALSCALE:GREGORIAN
METHOD:PUBLISH
X-ORIGINAL-URL:https://nathan-castle.com
X-WR-CALDESC:Events for Father Nathan Castle, O.P.
REFRESH-INTERVAL;VALUE=DURATION:PT1H
X-Robots-Tag:noindex
X-PUBLISHED-TTL:PT1H
BEGIN:VTIMEZONE
TZID:America/Phoenix
BEGIN:STANDARD
TZOFFSETFROM:-0700
TZOFFSETTO:-0700
TZNAME:MST
DTSTART:20250101T000000
END:STANDARD
END:VTIMEZONE
BEGIN:VEVENT
DTSTART;TZID=America/Phoenix:20260517T110000
DTEND;TZID=America/Phoenix:20260517T120000
DTSTAMP:20260425T174758
CREATED:20260420T210946Z
LAST-MODIFIED:20260420T210946Z
UID:27796-1779015600-1779019200@nathan-castle.com
SUMMARY:Mass and Preaching
DESCRIPTION:Oracle\, AZ
URL:https://nathan-castle.com/events/mass-and-preaching-442/
LOCATION:St. Helen’s Church\, Oracle\, AZ\, United States
END:VEVENT
BEGIN:VEVENT
DTSTART;TZID=America/Phoenix:20260517T123000
DTEND;TZID=America/Phoenix:20260517T133000
DTSTAMP:20260425T174758
CREATED:20260420T211058Z
LAST-MODIFIED:20260420T211058Z
UID:27798-1779021000-1779024600@nathan-castle.com
SUMMARY:Mass and Preaching
DESCRIPTION:Mammoth\, AZ
URL:https://nathan-castle.com/events/mass-and-preaching-443/
LOCATION:Blessed Sacrament Church\, Mammoth\, AZ\, United States
END:VEVENT
END:VCALENDAR