BEGIN:VCALENDAR
VERSION:2.0
PRODID:-//Father Nathan Castle, O.P. - ECPv6.15.16.1//NONSGML v1.0//EN
CALSCALE:GREGORIAN
METHOD:PUBLISH
X-WR-CALNAME:Father Nathan Castle, O.P.
X-ORIGINAL-URL:https://nathan-castle.com
X-WR-CALDESC:Events for Father Nathan Castle, O.P.
REFRESH-INTERVAL;VALUE=DURATION:PT1H
X-Robots-Tag:noindex
X-PUBLISHED-TTL:PT1H
BEGIN:VTIMEZONE
TZID:America/Phoenix
BEGIN:STANDARD
TZOFFSETFROM:-0700
TZOFFSETTO:-0700
TZNAME:MST
DTSTART:20250101T000000
END:STANDARD
END:VTIMEZONE
BEGIN:VEVENT
DTSTART;TZID=America/Phoenix:20260504T083000
DTEND;TZID=America/Phoenix:20260504T090000
DTSTAMP:20260425T062050
CREATED:20260420T205142Z
LAST-MODIFIED:20260420T205142Z
UID:27776-1777883400-1777885200@nathan-castle.com
SUMMARY:Mass and Preaching
DESCRIPTION:
URL:https://nathan-castle.com/events/mass-and-preaching-433/
LOCATION:St. Pius X Church\, Tucson\, AZ\, 1800 N Camino Pio Decimo\, Tucson\, AZ\, 85715\, United States
END:VEVENT
BEGIN:VEVENT
DTSTART;TZID=America/Phoenix:20260502T090000
DTEND;TZID=America/Phoenix:20260502T150000
DTSTAMP:20260425T062050
CREATED:20260415T165825Z
LAST-MODIFIED:20260422T202944Z
UID:27759-1777712400-1777734000@nathan-castle.com
SUMMARY:7 Gifts of the Holy Spirit Pentecost Retreat
DESCRIPTION:I sometimes call this retreat “Taste and See the Goodness of the Lord.” The Holy Spirit is God’s love \noffered in intimate and delightful ways. It is also wild! The Spirit takes us places we might never have gone on our own. \nWe’ll be together from 9am to 3pm. Our lunch will be foods that made us know we are loved and other adventurous tastes. \nWe’ll ponder the 7 gifts and ask for the 3 that we most crave. \nThe retreat is free. We just ask that you bring food or drink to share. An offering will be taken to support the seminary \neducation of future Dominican priests. \n(I will also preside and preach at the 8am mass before the retreat begins.)
URL:https://nathan-castle.com/events/7-gifts-of-the-holy-spirit-pentecost-retreat/
LOCATION:St. Francis de Sales\, 1375 S Camino Seco\, Tucson\, AZ\, 85710\, United States
END:VEVENT
BEGIN:VEVENT
DTSTART;TZID=America/Phoenix:20260501T171500
DTEND;TZID=America/Phoenix:20260501T174500
DTSTAMP:20260425T062050
CREATED:20260422T202736Z
LAST-MODIFIED:20260422T202736Z
UID:27819-1777655700-1777657500@nathan-castle.com
SUMMARY:Mass and Preaching
DESCRIPTION:
URL:https://nathan-castle.com/events/mass-and-preaching-428/
LOCATION:St. Thomas More Newman Center\, 1615 E 2nd Street\, Tucson\, AZ\, 85719\, United States
END:VEVENT
BEGIN:VEVENT
DTSTART;TZID=America/Phoenix:20260427T083000
DTEND;TZID=America/Phoenix:20260427T090000
DTSTAMP:20260425T062050
CREATED:20260330T220722Z
LAST-MODIFIED:20260330T220722Z
UID:26157-1777278600-1777280400@nathan-castle.com
SUMMARY:Mass and Preaching
DESCRIPTION:
URL:https://nathan-castle.com/events/mass-and-preaching-429/
LOCATION:St. Pius X Church\, Tucson\, AZ\, 1800 N Camino Pio Decimo\, Tucson\, AZ\, 85715\, United States
END:VEVENT
BEGIN:VEVENT
DTSTART;TZID=America/Phoenix:20260426T070000
DTEND;TZID=America/Phoenix:20260426T080000
DTSTAMP:20260425T062050
CREATED:20260415T165135Z
LAST-MODIFIED:20260415T165135Z
UID:27757-1777186800-1777190400@nathan-castle.com
SUMMARY:Mass and Preaching
DESCRIPTION:
URL:https://nathan-castle.com/events/mass-and-preaching-432/
LOCATION:St. Pius X Church\, Tucson\, AZ\, 1800 N Camino Pio Decimo\, Tucson\, AZ\, 85715\, United States
END:VEVENT
BEGIN:VEVENT
DTSTART;TZID=America/Phoenix:20260424T103000
DTEND;TZID=America/Phoenix:20260424T113000
DTSTAMP:20260425T062050
CREATED:20260420T204915Z
LAST-MODIFIED:20260420T204915Z
UID:27774-1777026600-1777030200@nathan-castle.com
SUMMARY:Funeral of Norma Padrez
DESCRIPTION:
URL:https://nathan-castle.com/events/funeral-of-norma-padrez/
LOCATION:AZ
END:VEVENT
BEGIN:VEVENT
DTSTART;TZID=America/Phoenix:20260424T171500
DTEND;TZID=America/Phoenix:20260424T171500
DTSTAMP:20260425T062050
CREATED:20260422T202020Z
LAST-MODIFIED:20260422T202322Z
UID:23969-1777050900-1777050900@nathan-castle.com
SUMMARY:Mass and Preaching
DESCRIPTION:
URL:https://nathan-castle.com/events/mass-and-preaching-448/
LOCATION:AZ
END:VEVENT
BEGIN:VEVENT
DTSTART;TZID=America/Phoenix:20260420T093000
DTEND;TZID=America/Phoenix:20260420T103000
DTSTAMP:20260425T062050
CREATED:20260420T210832Z
LAST-MODIFIED:20260420T210832Z
UID:27794-1776677400-1776681000@nathan-castle.com
SUMMARY:Mass and Preaching
DESCRIPTION:San Manuel\, AZ
URL:https://nathan-castle.com/events/mass-and-preaching-441/
LOCATION:St. Bartholomew’s Church\, San Manuel\, AZ\, United States
END:VEVENT
BEGIN:VEVENT
DTSTART;TZID=America/Phoenix:20260420T083000
DTEND;TZID=America/Phoenix:20260420T090000
DTSTAMP:20260425T062050
CREATED:20260330T220428Z
LAST-MODIFIED:20260330T220428Z
UID:26153-1776673800-1776675600@nathan-castle.com
SUMMARY:Mass and Preaching
DESCRIPTION:
URL:https://nathan-castle.com/events/mass-and-preaching-427/
LOCATION:St. Pius X Church\, Tucson\, AZ\, 1800 N Camino Pio Decimo\, Tucson\, AZ\, 85715\, United States
END:VEVENT
BEGIN:VEVENT
DTSTART;TZID=America/Phoenix:20260420T080000
DTEND;TZID=America/Phoenix:20260420T090000
DTSTAMP:20260425T062050
CREATED:20260420T210718Z
LAST-MODIFIED:20260420T210718Z
UID:27792-1776672000-1776675600@nathan-castle.com
SUMMARY:Mass and Preaching
DESCRIPTION:Mammoth\, AZ
URL:https://nathan-castle.com/events/mass-and-preaching-440/
LOCATION:AZ
END:VEVENT
BEGIN:VEVENT
DTSTART;TZID=America/Phoenix:20260419T073000
DTEND;TZID=America/Phoenix:20260419T103000
DTSTAMP:20260425T062050
CREATED:20260415T164950Z
LAST-MODIFIED:20260418T004450Z
UID:27755-1776583800-1776594600@nathan-castle.com
SUMMARY:Mass and Preaching
DESCRIPTION:I will preside and preach at the 7:30 and 9:30 masses.
URL:https://nathan-castle.com/events/mass-and-preaching-424/
LOCATION:St. Francis de Sales\, 1375 S Camino Seco\, Tucson\, AZ\, 85710\, United States
END:VEVENT
BEGIN:VEVENT
DTSTART;TZID=America/Phoenix:20260418T120000
DTEND;TZID=America/Phoenix:20260418T150000
DTSTAMP:20260425T062050
CREATED:20260415T164812Z
LAST-MODIFIED:20260415T164812Z
UID:27753-1776513600-1776524400@nathan-castle.com
SUMMARY:Gifts of the Holy Spirit Retreat
DESCRIPTION:There is no need to register in advance. Just show up. There is no fee \nbut an offering will be taken. Proceeds fund the seminary education of \nfuture Dominican priests.
URL:https://nathan-castle.com/events/gifts-of-the-holy-spirit-retreat/
LOCATION:Most Holy Trinity Church\, 1300 N. Greasewood\, Tucson\, AZ\, United States
END:VEVENT
BEGIN:VEVENT
DTSTART;TZID=America/Phoenix:20260415T171500
DTEND;TZID=America/Phoenix:20260415T174500
DTSTAMP:20260425T062050
CREATED:20260330T220226Z
LAST-MODIFIED:20260330T220226Z
UID:26149-1776273300-1776275100@nathan-castle.com
SUMMARY:Mass and Preaching
DESCRIPTION:
URL:https://nathan-castle.com/events/mass-and-preaching-426/
LOCATION:St. Thomas More Newman Center\, 1615 E 2nd Street\, Tucson\, AZ\, 85719\, United States
END:VEVENT
BEGIN:VEVENT
DTSTART;TZID=America/Phoenix:20260413T083000
DTEND;TZID=America/Phoenix:20260413T090000
DTSTAMP:20260425T062050
CREATED:20260330T220055Z
LAST-MODIFIED:20260402T190257Z
UID:26147-1776069000-1776070800@nathan-castle.com
SUMMARY:Mass and Preaching
DESCRIPTION:
URL:https://nathan-castle.com/events/mass-and-preaching-425/
LOCATION:St. Pius X Church\, Tucson\, AZ\, 1800 N Camino Pio Decimo\, Tucson\, AZ\, 85715\, United States
END:VEVENT
BEGIN:VEVENT
DTSTART;TZID=America/Phoenix:20260409T143000
DTEND;TZID=America/Phoenix:20260409T153000
DTSTAMP:20260425T062050
CREATED:20260407T172831Z
LAST-MODIFIED:20260407T172831Z
UID:26209-1775745000-1775748600@nathan-castle.com
SUMMARY:Guest Appearance on the Pop Talk Radio Show with Mary Jane Pop
DESCRIPTION:
URL:https://nathan-castle.com/events/guest-appearance-on-the-pop-talk-radio-show-with-mary-jane-pop/
LOCATION:AZ
END:VEVENT
BEGIN:VEVENT
DTSTART;TZID=America/Phoenix:20260406T083000
DTEND;TZID=America/Phoenix:20260406T090000
DTSTAMP:20260425T062050
CREATED:20260330T221112Z
LAST-MODIFIED:20260330T221112Z
UID:26161-1775464200-1775466000@nathan-castle.com
SUMMARY:Mass and Preaching
DESCRIPTION:
URL:https://nathan-castle.com/events/mass-and-preaching-431/
LOCATION:St. Pius X Church\, Tucson\, AZ\, 1800 N Camino Pio Decimo\, Tucson\, AZ\, 85715\, United States
END:VEVENT
BEGIN:VEVENT
DTSTART;TZID=America/Phoenix:20260405T070000
DTEND;TZID=America/Phoenix:20260405T080000
DTSTAMP:20260425T062050
CREATED:20260330T215614Z
LAST-MODIFIED:20260330T215614Z
UID:26143-1775372400-1775376000@nathan-castle.com
SUMMARY:Easter Sunrise Mass
DESCRIPTION:
URL:https://nathan-castle.com/events/easter-sunrise-mass/
LOCATION:St. Pius X Church\, Tucson\, AZ\, 1800 N Camino Pio Decimo\, Tucson\, AZ\, 85715\, United States
END:VEVENT
BEGIN:VEVENT
DTSTART;TZID=America/Phoenix:20260403T103000
DTEND;TZID=America/Phoenix:20260403T104500
DTSTAMP:20260425T062050
CREATED:20260402T190823Z
LAST-MODIFIED:20260402T190823Z
UID:26177-1775212200-1775213100@nathan-castle.com
SUMMARY:Guest Appearance on "American Medicine Today" Podcast with Ethan Youker
DESCRIPTION:
URL:https://nathan-castle.com/events/guest-appearance-on-american-medicine-today-podcast-with-ethan-youker/
LOCATION:AZ
END:VEVENT
BEGIN:VEVENT
DTSTART;TZID=America/Phoenix:20260402T080000
DTEND;TZID=America/Phoenix:20260404T170000
DTSTAMP:20260425T062050
CREATED:20260330T215205Z
LAST-MODIFIED:20260330T215205Z
UID:26141-1775116800-1775322000@nathan-castle.com
SUMMARY:Presence at Tenebrae and Triduum Services
DESCRIPTION:I will take part in the services of the Sacred Triduum Holy Thursday through Holy Saturday. I will sing one of the lamentations at Tenebrae on Good Friday.
URL:https://nathan-castle.com/events/presence-at-tenebrae-and-triduum-services/
LOCATION:St. Thomas More Newman Center\, 1615 E 2nd Street\, Tucson\, AZ\, 85719\, United States
END:VEVENT
BEGIN:VEVENT
DTSTART;TZID=America/Phoenix:20260401T171500
DTEND;TZID=America/Phoenix:20260401T174500
DTSTAMP:20260425T062050
CREATED:20260330T214713Z
LAST-MODIFIED:20260330T215301Z
UID:26139-1775063700-1775065500@nathan-castle.com
SUMMARY:Mass and Preaching\, Wednesday of Holy Week
DESCRIPTION:
URL:https://nathan-castle.com/events/mass-and-preaching-wednesday-of-holy-week-2/
LOCATION:St. Thomas More Newman Center\, 1615 E 2nd Street\, Tucson\, AZ\, 85719\, United States
END:VEVENT
BEGIN:VEVENT
DTSTART;TZID=America/Phoenix:20260330T083000
DTEND;TZID=America/Phoenix:20260330T090000
DTSTAMP:20260425T062050
CREATED:20260221T175802Z
LAST-MODIFIED:20260221T175802Z
UID:25994-1774859400-1774861200@nathan-castle.com
SUMMARY:Mass and Preaching
DESCRIPTION:
URL:https://nathan-castle.com/events/mass-and-preaching-421/
LOCATION:St. Pius X Church\, Tucson\, AZ\, 1800 N Camino Pio Decimo\, Tucson\, AZ\, 85715\, United States
END:VEVENT
BEGIN:VEVENT
DTSTART;TZID=America/Phoenix:20260329T090000
DTEND;TZID=America/Phoenix:20260329T120000
DTSTAMP:20260425T062050
CREATED:20260226T183214Z
LAST-MODIFIED:20260306T004740Z
UID:26016-1774774800-1774785600@nathan-castle.com
SUMMARY:Palm Sunday Mass and Preaching
DESCRIPTION:I will preside and preach at the 9 and 11am masses.
URL:https://nathan-castle.com/events/palm-sunday-mass-and-preaching/
LOCATION:St. Pius X Church\, Tucson\, AZ\, 1800 N Camino Pio Decimo\, Tucson\, AZ\, 85715\, United States
ATTACH;FMTTYPE=image/png:https://nathan-castle.com/wp-content/uploads/2026/02/White-and-Brown-Palm-Sunday-Instagram-Post.png
END:VEVENT
BEGIN:VEVENT
DTSTART;TZID=America/Phoenix:20260321T040000
DTEND;TZID=America/Phoenix:20260321T170000
DTSTAMP:20260425T062050
CREATED:20260221T175510Z
LAST-MODIFIED:20260306T005928Z
UID:25992-1774065600-1774112400@nathan-castle.com
SUMMARY:High School Reunion Mass
DESCRIPTION:I will concelebrate at an all-school reunion of Bishop Byrne High School in Port Arthur\, Texas.\nThe mass will be at St. James Church in Port Arthur.
URL:https://nathan-castle.com/events/high-school-reunion-mass/
LOCATION:AZ
ATTACH;FMTTYPE=image/png:https://nathan-castle.com/wp-content/uploads/2026/02/Screenshot-2026-03-05-175803.png
END:VEVENT
BEGIN:VEVENT
DTSTART;TZID=America/Phoenix:20260318T171500
DTEND;TZID=America/Phoenix:20260318T174500
DTSTAMP:20260425T062050
CREATED:20260221T175301Z
LAST-MODIFIED:20260221T175301Z
UID:25990-1773854100-1773855900@nathan-castle.com
SUMMARY:Mass and Preaching
DESCRIPTION:
URL:https://nathan-castle.com/events/mass-and-preaching-420/
LOCATION:St. Thomas More Newman Center\, 1615 E 2nd Street\, Tucson\, AZ\, 85719\, United States
END:VEVENT
BEGIN:VEVENT
DTSTART;TZID=America/Phoenix:20260318T100000
DTEND;TZID=America/Phoenix:20260318T110000
DTSTAMP:20260425T062050
CREATED:20260221T175125Z
LAST-MODIFIED:20260306T004229Z
UID:25988-1773828000-1773831600@nathan-castle.com
SUMMARY:Conversations With Father Nathan
DESCRIPTION:This small group discussion will be on Zoom. Suggested donation is $50. info@nathan-castle.com
URL:https://nathan-castle.com/events/conversations-with-father-nathan-9/
LOCATION:AZ
ATTACH;FMTTYPE=image/png:https://nathan-castle.com/wp-content/uploads/2026/02/Conversations-with-Nathan-Instagram-Post.png
END:VEVENT
BEGIN:VEVENT
DTSTART;TZID=America/Phoenix:20260316T180000
DTEND;TZID=America/Phoenix:20260316T193000
DTSTAMP:20260425T062050
CREATED:20260221T174907Z
LAST-MODIFIED:20260223T202926Z
UID:25986-1773684000-1773689400@nathan-castle.com
SUMMARY:"Love Overflowing" Lenten Parish Mission\, Part Two
DESCRIPTION:The Gospel of John is a testament to love overflowing\, serving as the central theme that connects the Last Supper to the Easter events. It transcends human emotion\, embodying a “super-abounding” divine power that emanates from God to Jesus\, and then spreads through believers to the world.
URL:https://nathan-castle.com/events/love-overflowing-lenten-parish-mission-part-two/
LOCATION:Most Holy Trinity Church\, 1300 N. Greasewood\, Tucson\, AZ\, United States
ATTACH;FMTTYPE=image/png:https://nathan-castle.com/wp-content/uploads/2026/02/Lenten-Parish-Mission-MHT-1.png
END:VEVENT
BEGIN:VEVENT
DTSTART;TZID=America/Phoenix:20260316T083000
DTEND;TZID=America/Phoenix:20260316T090000
DTSTAMP:20260425T062050
CREATED:20260221T162411Z
LAST-MODIFIED:20260221T162411Z
UID:25979-1773649800-1773651600@nathan-castle.com
SUMMARY:Mass and Preaching
DESCRIPTION:
URL:https://nathan-castle.com/events/mass-and-preaching-419/
LOCATION:St. Pius X Church\, Tucson\, AZ\, 1800 N Camino Pio Decimo\, Tucson\, AZ\, 85715\, United States
END:VEVENT
BEGIN:VEVENT
DTSTART;TZID=America/Phoenix:20260311T093000
DTEND;TZID=America/Phoenix:20260311T130000
DTSTAMP:20260425T062050
CREATED:20260221T162241Z
LAST-MODIFIED:20260223T230240Z
UID:25977-1773221400-1773234000@nathan-castle.com
SUMMARY:"May We Be One" Sustaining Board Retreat
DESCRIPTION:This private retreat for members of the Newman Center Sustaining Board will begin with mass at 9:30am. We will have two 1 1/2 hour sessions with lunch in between.
URL:https://nathan-castle.com/events/may-we-be-one-sustaining-board-retreat/
LOCATION:St. Thomas More Newman Center\, 1615 E 2nd Street\, Tucson\, AZ\, 85719\, United States
ATTACH;FMTTYPE=image/png:https://nathan-castle.com/wp-content/uploads/2026/02/Sustaining-Board-March-2026.png
END:VEVENT
BEGIN:VEVENT
DTSTART;TZID=America/Phoenix:20260309T180000
DTEND;TZID=America/Phoenix:20260309T193000
DTSTAMP:20260425T062050
CREATED:20260219T001723Z
LAST-MODIFIED:20260221T174603Z
UID:25914-1773079200-1773084600@nathan-castle.com
SUMMARY:"Love Overflowing" Lenten Parish Mission\, Part One
DESCRIPTION:The Gospel of John is a testament to love overflowing\, serving as the central theme that connects the Last Supper to the Easter events. It transcends human emotion\, embodying a “super-abounding” divine power that emanates from God to Jesus\, and then spreads through believers to the world.\n\nHttps://www.mostholytrinityparish.org
URL:https://nathan-castle.com/events/love-overflowing-lenten-parish-mission/
LOCATION:Most Holy Trinity Church\, 1300 N. Greasewood\, Tucson\, AZ\, United States
ATTACH;FMTTYPE=image/png:https://nathan-castle.com/wp-content/uploads/2026/02/Lenten-Parish-Mission-MHT-1.png
END:VEVENT
BEGIN:VEVENT
DTSTART;TZID=America/Phoenix:20260309T083000
DTEND;TZID=America/Phoenix:20260309T090000
DTSTAMP:20260425T062050
CREATED:20260221T161911Z
LAST-MODIFIED:20260221T161911Z
UID:25975-1773045000-1773046800@nathan-castle.com
SUMMARY:Mass and Preaching
DESCRIPTION:
URL:https://nathan-castle.com/events/mass-and-preaching-418/
LOCATION:St. Pius X Church\, Tucson\, AZ\, 1800 N Camino Pio Decimo\, Tucson\, AZ\, 85715\, United States
END:VEVENT
END:VCALENDAR