BEGIN:VCALENDAR
VERSION:2.0
PRODID:-//Father Nathan Castle, O.P. - ECPv6.15.16.1//NONSGML v1.0//EN
CALSCALE:GREGORIAN
METHOD:PUBLISH
X-WR-CALNAME:Father Nathan Castle, O.P.
X-ORIGINAL-URL:https://nathan-castle.com
X-WR-CALDESC:Events for Father Nathan Castle, O.P.
REFRESH-INTERVAL;VALUE=DURATION:PT1H
X-Robots-Tag:noindex
X-PUBLISHED-TTL:PT1H
BEGIN:VTIMEZONE
TZID:America/Phoenix
BEGIN:STANDARD
TZOFFSETFROM:-0700
TZOFFSETTO:-0700
TZNAME:MST
DTSTART:20240101T000000
END:STANDARD
END:VTIMEZONE
BEGIN:VEVENT
DTSTART;TZID=America/Phoenix:20250726T171500
DTEND;TZID=America/Phoenix:20250726T181500
DTSTAMP:20260425T161817
CREATED:20250423T171013Z
LAST-MODIFIED:20250423T171013Z
UID:22885-1753550100-1753553700@nathan-castle.com
SUMMARY:Mass and Preaching
DESCRIPTION:I will hear confessions from 4 to 4:45pm.
URL:https://nathan-castle.com/events/mass-and-preaching-363/
END:VEVENT
BEGIN:VEVENT
DTSTART;TZID=America/Phoenix:20250723T100000
DTEND;TZID=America/Phoenix:20250723T110000
DTSTAMP:20260425T161817
CREATED:20250625T222555Z
LAST-MODIFIED:20250625T222555Z
UID:23272-1753264800-1753268400@nathan-castle.com
SUMMARY:Conversations With Father Nathan:  Zoom Event
DESCRIPTION:
URL:https://nathan-castle.com/events/conversations-with-father-nathan-zoom-event/
END:VEVENT
BEGIN:VEVENT
DTSTART;TZID=America/Phoenix:20250721T083000
DTEND;TZID=America/Phoenix:20250721T090000
DTSTAMP:20260425T161817
CREATED:20250625T221622Z
LAST-MODIFIED:20250625T221622Z
UID:23266-1753086600-1753088400@nathan-castle.com
SUMMARY:Mass and Preaching
DESCRIPTION:
URL:https://nathan-castle.com/events/mass-and-preaching-379/
LOCATION:St. Pius X Church\, Tucson\, AZ\, 1800 N Camino Pio Decimo\, Tucson\, AZ\, 85715\, United States
END:VEVENT
BEGIN:VEVENT
DTSTART;TZID=America/Phoenix:20250720T170000
DTEND;TZID=America/Phoenix:20250720T180000
DTSTAMP:20260425T161817
CREATED:20250423T172906Z
LAST-MODIFIED:20250423T172906Z
UID:22903-1753030800-1753034400@nathan-castle.com
SUMMARY:Mass and Preaching
DESCRIPTION:
URL:https://nathan-castle.com/events/mass-and-preaching-372/
LOCATION:St. Thomas More Newman Center\, 1615 E 2nd Street\, Tucson\, AZ\, 85719\, United States
END:VEVENT
BEGIN:VEVENT
DTSTART;TZID=America/Phoenix:20250720T090000
DTEND;TZID=America/Phoenix:20250720T120000
DTSTAMP:20260425T161817
CREATED:20250423T170801Z
LAST-MODIFIED:20250423T170801Z
UID:22883-1753002000-1753012800@nathan-castle.com
SUMMARY:Mass and Preaching
DESCRIPTION:I will say the 9 and 11am masses.
URL:https://nathan-castle.com/events/mass-and-preaching-362/
LOCATION:St. Thomas More Newman Center\, 1615 E 2nd Street\, Tucson\, AZ\, 85719\, United States
END:VEVENT
BEGIN:VEVENT
DTSTART;TZID=America/Phoenix:20250719T171500
DTEND;TZID=America/Phoenix:20250719T181500
DTSTAMP:20260425T161817
CREATED:20250423T170554Z
LAST-MODIFIED:20250423T170554Z
UID:22881-1752945300-1752948900@nathan-castle.com
SUMMARY:Mass and Preaching
DESCRIPTION:I will hear confessions from 4 to 5pm.
URL:https://nathan-castle.com/events/mass-and-preaching-361/
LOCATION:St. Thomas More Newman Center\, 1615 E 2nd Street\, Tucson\, AZ\, 85719\, United States
END:VEVENT
BEGIN:VEVENT
DTSTART;TZID=America/Phoenix:20250716T171500
DTEND;TZID=America/Phoenix:20250716T174500
DTSTAMP:20260425T161817
CREATED:20250625T221348Z
LAST-MODIFIED:20250625T221348Z
UID:23264-1752686100-1752687900@nathan-castle.com
SUMMARY:Mass and Preaching
DESCRIPTION:
URL:https://nathan-castle.com/events/mass-and-preaching-371/
LOCATION:St. Thomas More Newman Center\, 1615 E 2nd Street\, Tucson\, AZ\, 85719\, United States
END:VEVENT
BEGIN:VEVENT
DTSTART;TZID=America/Phoenix:20250715T191500
DTEND;TZID=America/Phoenix:20250715T204500
DTSTAMP:20260425T161817
CREATED:20250625T231615Z
LAST-MODIFIED:20250625T231615Z
UID:23277-1752606900-1752612300@nathan-castle.com
SUMMARY:Newman Center Young Adults: John's Gospel as Theatre
DESCRIPTION:
URL:https://nathan-castle.com/events/newman-center-young-adults-johns-gospel-as-theatre/
LOCATION:St. Thomas More Newman Center\, 1615 E 2nd Street\, Tucson\, AZ\, 85719\, United States
END:VEVENT
BEGIN:VEVENT
DTSTART;TZID=America/Phoenix:20250714T083000
DTEND;TZID=America/Phoenix:20250714T090000
DTSTAMP:20260425T161817
CREATED:20250625T221007Z
LAST-MODIFIED:20250625T221007Z
UID:23262-1752481800-1752483600@nathan-castle.com
SUMMARY:Mass and Preaching
DESCRIPTION:
URL:https://nathan-castle.com/events/mass-and-preaching-359/
LOCATION:St. Pius X Church\, Tucson\, AZ\, 1800 N Camino Pio Decimo\, Tucson\, AZ\, 85715\, United States
END:VEVENT
BEGIN:VEVENT
DTSTART;TZID=America/Phoenix:20250709T100000
DTEND;TZID=America/Phoenix:20250709T110000
DTSTAMP:20260425T161817
CREATED:20250625T222133Z
LAST-MODIFIED:20250625T222133Z
UID:23270-1752055200-1752058800@nathan-castle.com
SUMMARY:Guest Appearance on Gurus and Game Changers Podcast with Mark Lubragge
DESCRIPTION:
URL:https://nathan-castle.com/events/guest-appearance-on-gurus-and-game-changers-podcast-with-mark-lubragge/
END:VEVENT
BEGIN:VEVENT
DTSTART;TZID=America/Phoenix:20250707T083000
DTEND;TZID=America/Phoenix:20250707T090000
DTSTAMP:20260425T161817
CREATED:20250625T220842Z
LAST-MODIFIED:20250625T220842Z
UID:23260-1751877000-1751878800@nathan-castle.com
SUMMARY:Mass and Preaching
DESCRIPTION:
URL:https://nathan-castle.com/events/mass-and-preaching-358/
LOCATION:St. Pius X Church\, Tucson\, AZ\, 1800 N Camino Pio Decimo\, Tucson\, AZ\, 85715\, United States
END:VEVENT
BEGIN:VEVENT
DTSTART;TZID=America/Phoenix:20250703T110000
DTEND;TZID=America/Phoenix:20250703T120000
DTSTAMP:20260425T161817
CREATED:20250625T220648Z
LAST-MODIFIED:20250625T220648Z
UID:23258-1751540400-1751544000@nathan-castle.com
SUMMARY:Funeral Mass for Joe Buckley
DESCRIPTION:
URL:https://nathan-castle.com/events/funeral-mass-for-joe-buckley/
LOCATION:Franciscan Renewal Center “The Casa”\, Scottsdale\, AZ
END:VEVENT
BEGIN:VEVENT
DTSTART;TZID=America/Phoenix:20250702T190000
DTEND;TZID=America/Phoenix:20250702T200000
DTSTAMP:20260425T161817
CREATED:20250625T220039Z
LAST-MODIFIED:20250625T220144Z
UID:23254-1751482800-1751486400@nathan-castle.com
SUMMARY:Wake Service for Joe Buckley
DESCRIPTION:
URL:https://nathan-castle.com/events/wake-service-for-joe-buckley/
END:VEVENT
BEGIN:VEVENT
DTSTART;TZID=America/Phoenix:20250630T143000
DTEND;TZID=America/Phoenix:20250630T160000
DTSTAMP:20260425T161817
CREATED:20250625T223746Z
LAST-MODIFIED:20250625T223746Z
UID:23274-1751293800-1751299200@nathan-castle.com
SUMMARY:Guest Appearance on Wait-What? Podcast with Host Meghan DeFord
DESCRIPTION:
URL:https://nathan-castle.com/events/guest-appearance-on-wait-what-podcast-with-host-meghan-deford/
END:VEVENT
BEGIN:VEVENT
DTSTART;TZID=America/Phoenix:20250630T083000
DTEND;TZID=America/Phoenix:20250630T090000
DTSTAMP:20260425T161817
CREATED:20250423T170119Z
LAST-MODIFIED:20250423T170323Z
UID:22879-1751272200-1751274000@nathan-castle.com
SUMMARY:Mass and Preaching
DESCRIPTION:
URL:https://nathan-castle.com/events/mass-and-preaching-360/
LOCATION:St. Pius X Church\, Tucson\, AZ\, 1800 N Camino Pio Decimo\, Tucson\, AZ\, 85715\, United States
END:VEVENT
BEGIN:VEVENT
DTSTART;TZID=America/Phoenix:20250628T100000
DTEND;TZID=America/Phoenix:20250628T103000
DTSTAMP:20260425T161817
CREATED:20250625T215211Z
LAST-MODIFIED:20250625T215211Z
UID:23252-1751104800-1751106600@nathan-castle.com
SUMMARY:Graveside Service for Gary Burchard
DESCRIPTION:
URL:https://nathan-castle.com/events/graveside-service-for-gary-burchard/
END:VEVENT
BEGIN:VEVENT
DTSTART;TZID=America/Phoenix:20250627T171500
DTEND;TZID=America/Phoenix:20250627T174500
DTSTAMP:20260425T161818
CREATED:20250522T222201Z
LAST-MODIFIED:20250522T222201Z
UID:23082-1751044500-1751046300@nathan-castle.com
SUMMARY:Mass and Preaching
DESCRIPTION:
URL:https://nathan-castle.com/events/mass-and-preaching-346/
LOCATION:St. Thomas More Newman Center\, 1615 E 2nd Street\, Tucson\, AZ\, 85719\, United States
END:VEVENT
BEGIN:VEVENT
DTSTART;TZID=America/Phoenix:20250626T110000
DTEND;TZID=America/Phoenix:20250626T120000
DTSTAMP:20260425T161818
CREATED:20250625T215029Z
LAST-MODIFIED:20250625T215543Z
UID:23250-1750935600-1750939200@nathan-castle.com
SUMMARY:Guest Appearance on the Spectrum Perspectives Podcast with Host Cindy Gelormini
DESCRIPTION:
URL:https://nathan-castle.com/events/guest-appearance-on-the-spectrum-perspectives-podcast-with-host-cindy-gelormini/
END:VEVENT
BEGIN:VEVENT
DTSTART;TZID=America/Phoenix:20250623T083000
DTEND;TZID=America/Phoenix:20250623T090000
DTSTAMP:20260425T161818
CREATED:20250423T165720Z
LAST-MODIFIED:20250423T165720Z
UID:22873-1750667400-1750669200@nathan-castle.com
SUMMARY:Mass and Preaching
DESCRIPTION:
URL:https://nathan-castle.com/events/mass-and-preaching-357/
LOCATION:St. Pius X Church\, Tucson\, AZ\, 1800 N Camino Pio Decimo\, Tucson\, AZ\, 85715\, United States
END:VEVENT
BEGIN:VEVENT
DTSTART;TZID=America/Phoenix:20250622T123000
DTEND;TZID=America/Phoenix:20250622T133000
DTSTAMP:20260425T161818
CREATED:20250422T233552Z
LAST-MODIFIED:20250423T165510Z
UID:22859-1750595400-1750599000@nathan-castle.com
SUMMARY:Mass and Preaching
DESCRIPTION:
URL:https://nathan-castle.com/events/mass-and-preaching-356/
LOCATION:Blessed Sacrament Church\, Mammoth\, AZ\, United States
END:VEVENT
BEGIN:VEVENT
DTSTART;TZID=America/Phoenix:20250622T113000
DTEND;TZID=America/Phoenix:20250622T123000
DTSTAMP:20260425T161818
CREATED:20250522T221915Z
LAST-MODIFIED:20250522T221915Z
UID:23080-1750591800-1750595400@nathan-castle.com
SUMMARY:Mass and Preaching
DESCRIPTION:
URL:https://nathan-castle.com/events/mass-and-preaching-345/
LOCATION:St. Helen’s Church\, Oracle\, AZ\, United States
END:VEVENT
BEGIN:VEVENT
DTSTART;TZID=America/Phoenix:20250622T093000
DTEND;TZID=America/Phoenix:20250622T103000
DTSTAMP:20260425T161818
CREATED:20250422T233338Z
LAST-MODIFIED:20250422T233338Z
UID:22855-1750584600-1750588200@nathan-castle.com
SUMMARY:Mass and Preaching
DESCRIPTION:
URL:https://nathan-castle.com/events/mass-and-preaching-354/
LOCATION:St. Bartholomew’s Church\, San Manuel\, AZ\, United States
END:VEVENT
BEGIN:VEVENT
DTSTART;TZID=America/Phoenix:20250622T080000
DTEND;TZID=America/Phoenix:20250622T090000
DTSTAMP:20260425T161818
CREATED:20250422T233223Z
LAST-MODIFIED:20250422T233223Z
UID:22852-1750579200-1750582800@nathan-castle.com
SUMMARY:Mass and Preaching
DESCRIPTION:
URL:https://nathan-castle.com/events/mass-and-preaching-353/
LOCATION:Blessed Sacrament Church\, Mammoth\, AZ\, United States
END:VEVENT
BEGIN:VEVENT
DTSTART;TZID=America/Phoenix:20250621T180000
DTEND;TZID=America/Phoenix:20250621T190000
DTSTAMP:20260425T161818
CREATED:20250422T233008Z
LAST-MODIFIED:20250422T233008Z
UID:22850-1750528800-1750532400@nathan-castle.com
SUMMARY:Mass and Preaching
DESCRIPTION:
URL:https://nathan-castle.com/events/mass-and-preaching-352/
LOCATION:St. Bartholomew’s Church\, San Manuel\, AZ\, United States
END:VEVENT
BEGIN:VEVENT
DTSTART;TZID=America/Phoenix:20250621T163000
DTEND;TZID=America/Phoenix:20250621T173000
DTSTAMP:20260425T161818
CREATED:20250422T232901Z
LAST-MODIFIED:20250422T232901Z
UID:22848-1750523400-1750527000@nathan-castle.com
SUMMARY:Mass and Preaching
DESCRIPTION:
URL:https://nathan-castle.com/events/mass-and-preaching-351/
LOCATION:St. Helen’s Church\, Oracle\, AZ\, United States
END:VEVENT
BEGIN:VEVENT
DTSTART;TZID=America/Phoenix:20250618T171500
DTEND;TZID=America/Phoenix:20250618T174500
DTSTAMP:20260425T161818
CREATED:20250422T232752Z
LAST-MODIFIED:20250422T232752Z
UID:22845-1750266900-1750268700@nathan-castle.com
SUMMARY:Mass and Preaching
DESCRIPTION:
URL:https://nathan-castle.com/events/mass-and-preaching-350/
LOCATION:St. Thomas More Newman Center\, 1615 E 2nd Street\, Tucson\, AZ\, 85719\, United States
END:VEVENT
BEGIN:VEVENT
DTSTART;TZID=America/Phoenix:20250618T100000
DTEND;TZID=America/Phoenix:20250618T110000
DTSTAMP:20260425T161818
CREATED:20250522T221634Z
LAST-MODIFIED:20250522T221634Z
UID:23078-1750240800-1750244400@nathan-castle.com
SUMMARY:Conversations With Father Nathan
DESCRIPTION:Our topic is “Enhancing Your Spiritual Gifts Through Catholic Christian Practices.”\nThis session will be on Zoom. Invitations are extended via our email distribution list\nand Facebook.
URL:https://nathan-castle.com/events/conversations-with-father-nathan-7/
END:VEVENT
BEGIN:VEVENT
DTSTART;TZID=America/Phoenix:20250616T083000
DTEND;TZID=America/Phoenix:20250616T090000
DTSTAMP:20260425T161818
CREATED:20250422T232631Z
LAST-MODIFIED:20250422T232631Z
UID:22843-1750062600-1750064400@nathan-castle.com
SUMMARY:Mass and Preaching
DESCRIPTION:
URL:https://nathan-castle.com/events/mass-and-preaching-349/
LOCATION:St. Pius X Church\, Tucson\, AZ\, 1800 N Camino Pio Decimo\, Tucson\, AZ\, 85715\, United States
END:VEVENT
BEGIN:VEVENT
DTSTART;TZID=America/Phoenix:20250611T171500
DTEND;TZID=America/Phoenix:20250611T174500
DTSTAMP:20260425T161818
CREATED:20250422T232457Z
LAST-MODIFIED:20250422T232457Z
UID:22841-1749662100-1749663900@nathan-castle.com
SUMMARY:Mass and Preaching
DESCRIPTION:
URL:https://nathan-castle.com/events/mass-and-preaching-348/
LOCATION:St. Thomas More Newman Center\, 1615 E 2nd Street\, Tucson\, AZ\, 85719\, United States
END:VEVENT
BEGIN:VEVENT
DTSTART;TZID=America/Phoenix:20250610T073000
DTEND;TZID=America/Phoenix:20250610T074500
DTSTAMP:20260425T161818
CREATED:20250522T220057Z
LAST-MODIFIED:20250522T220057Z
UID:23074-1749540600-1749541500@nathan-castle.com
SUMMARY:Guest Appearance on "The Cowboy State Daily Morning Show"
DESCRIPTION:This radio show is heard throughout Wyoming. It is hosted by Jake Nichols.
URL:https://nathan-castle.com/events/guest-appearance-on-the-cowboy-state-daily-morning-show/
END:VEVENT
END:VCALENDAR