BEGIN:VCALENDAR
VERSION:2.0
PRODID:-//Father Nathan Castle, O.P. - ECPv6.15.16.1//NONSGML v1.0//EN
CALSCALE:GREGORIAN
METHOD:PUBLISH
X-WR-CALNAME:Father Nathan Castle, O.P.
X-ORIGINAL-URL:https://nathan-castle.com
X-WR-CALDESC:Events for Father Nathan Castle, O.P.
REFRESH-INTERVAL;VALUE=DURATION:PT1H
X-Robots-Tag:noindex
X-PUBLISHED-TTL:PT1H
BEGIN:VTIMEZONE
TZID:America/Phoenix
BEGIN:STANDARD
TZOFFSETFROM:-0700
TZOFFSETTO:-0700
TZNAME:MST
DTSTART:20240101T000000
END:STANDARD
END:VTIMEZONE
BEGIN:VEVENT
DTSTART;TZID=America/Phoenix:20250507T100000
DTEND;TZID=America/Phoenix:20250507T110000
DTSTAMP:20260425T175609
CREATED:20250422T224240Z
LAST-MODIFIED:20250422T224240Z
UID:22817-1746612000-1746615600@nathan-castle.com
SUMMARY:Conversations With Father Nathan
DESCRIPTION:This is a Zoom event.
URL:https://nathan-castle.com/events/conversations-with-father-nathan-6/
LOCATION:AZ
END:VEVENT
BEGIN:VEVENT
DTSTART;TZID=America/Phoenix:20250505T083000
DTEND;TZID=America/Phoenix:20250505T090000
DTSTAMP:20260425T175609
CREATED:20250307T232907Z
LAST-MODIFIED:20250307T232907Z
UID:22600-1746433800-1746435600@nathan-castle.com
SUMMARY:Mass and Preaching
DESCRIPTION:
URL:https://nathan-castle.com/events/mass-and-preaching-338/
LOCATION:St. Pius X Church\, Tucson\, AZ\, 1800 N Camino Pio Decimo\, Tucson\, AZ\, 85715\, United States
END:VEVENT
BEGIN:VEVENT
DTSTART;TZID=America/Phoenix:20250502T103000
DTEND;TZID=America/Phoenix:20250502T113000
DTSTAMP:20260425T175609
CREATED:20250307T232616Z
LAST-MODIFIED:20250307T232616Z
UID:22597-1746181800-1746185400@nathan-castle.com
SUMMARY:Marta Herrero Memorial Mass
DESCRIPTION:
URL:https://nathan-castle.com/events/marta-herrero-memorial-mass/
LOCATION:Franciscan Renewal Center “The Casa”\, Scottsdale\, AZ
END:VEVENT
BEGIN:VEVENT
DTSTART;TZID=America/Phoenix:20250430T171500
DTEND;TZID=America/Phoenix:20250430T174500
DTSTAMP:20260425T175609
CREATED:20250226T234515Z
LAST-MODIFIED:20250226T234515Z
UID:22539-1746033300-1746035100@nathan-castle.com
SUMMARY:Mass and Preaching
DESCRIPTION:
URL:https://nathan-castle.com/events/mass-and-preaching-335/
LOCATION:St. Thomas More Newman Center\, 1615 E 2nd Street\, Tucson\, AZ\, 85719\, United States
END:VEVENT
BEGIN:VEVENT
DTSTART;TZID=America/Phoenix:20250428T083000
DTEND;TZID=America/Phoenix:20250428T090000
DTSTAMP:20260425T175609
CREATED:20250226T234221Z
LAST-MODIFIED:20250226T234221Z
UID:22537-1745829000-1745830800@nathan-castle.com
SUMMARY:Mass and Preaching
DESCRIPTION:
URL:https://nathan-castle.com/events/mass-and-preaching-334/
LOCATION:St. Pius X Church\, Tucson\, AZ\, 1800 N Camino Pio Decimo\, Tucson\, AZ\, 85715\, United States
END:VEVENT
BEGIN:VEVENT
DTSTART;TZID=America/Phoenix:20250427T070000
DTEND;TZID=America/Phoenix:20250427T100000
DTSTAMP:20260425T175609
CREATED:20250422T222745Z
LAST-MODIFIED:20250422T222745Z
UID:22809-1745737200-1745748000@nathan-castle.com
SUMMARY:Mass and Preaching for Divine Mercy Sunday
DESCRIPTION:
URL:https://nathan-castle.com/events/mass-and-preaching-for-divine-mercy-sunday/
LOCATION:St. Pius X Church\, Tucson\, AZ\, 1800 N Camino Pio Decimo\, Tucson\, AZ\, 85715\, United States
END:VEVENT
BEGIN:VEVENT
DTSTART;TZID=America/Phoenix:20250426T153000
DTEND;TZID=America/Phoenix:20250426T180000
DTSTAMP:20260425T175609
CREATED:20250226T233802Z
LAST-MODIFIED:20250226T233802Z
UID:22535-1745681400-1745690400@nathan-castle.com
SUMMARY:Mass and Preaching
DESCRIPTION:I will hear confessions from 3:30 to 4:45\, then preside and preach at the 5pm mass.
URL:https://nathan-castle.com/events/mass-and-preaching-333/
LOCATION:St. Rita in the Desert Church\, 13260 E Colossal. Cave Road\, Vail\, AZ\, 85641
END:VEVENT
BEGIN:VEVENT
DTSTART;TZID=America/Phoenix:20250422T113000
DTEND;TZID=America/Phoenix:20250422T123000
DTSTAMP:20260425T175609
CREATED:20250422T233451Z
LAST-MODIFIED:20250422T233451Z
UID:22857-1745321400-1745325000@nathan-castle.com
SUMMARY:Mass and Preaching
DESCRIPTION:
URL:https://nathan-castle.com/events/mass-and-preaching-355/
LOCATION:St. Helen’s Church\, Oracle\, AZ\, United States
END:VEVENT
BEGIN:VEVENT
DTSTART;TZID=America/Phoenix:20250422T070000
DTEND;TZID=America/Phoenix:20250422T100000
DTSTAMP:20260425T175609
CREATED:20250422T222456Z
LAST-MODIFIED:20250422T222456Z
UID:22807-1745305200-1745316000@nathan-castle.com
SUMMARY:Mass and Preaching
DESCRIPTION:I will preside and preach at the 7 and 9am masses on Divine Mercy Sunday.
URL:https://nathan-castle.com/events/mass-and-preaching-332/
LOCATION:St. Pius X Church\, Tucson\, AZ\, 1800 N Camino Pio Decimo\, Tucson\, AZ\, 85715\, United States
END:VEVENT
BEGIN:VEVENT
DTSTART;TZID=America/Phoenix:20250421T083000
DTEND;TZID=America/Phoenix:20250421T090000
DTSTAMP:20260425T175609
CREATED:20250226T233449Z
LAST-MODIFIED:20250226T233449Z
UID:22531-1745224200-1745226000@nathan-castle.com
SUMMARY:Mass and Preaching
DESCRIPTION:
URL:https://nathan-castle.com/events/mass-and-preaching-331/
LOCATION:St. Pius X Church\, Tucson\, AZ\, 1800 N Camino Pio Decimo\, Tucson\, AZ\, 85715\, United States
END:VEVENT
BEGIN:VEVENT
DTSTART;TZID=America/Phoenix:20250420T073000
DTEND;TZID=America/Phoenix:20250420T083000
DTSTAMP:20260425T175609
CREATED:20250307T232100Z
LAST-MODIFIED:20250307T232100Z
UID:22595-1745134200-1745137800@nathan-castle.com
SUMMARY:Mass and Preaching
DESCRIPTION:
URL:https://nathan-castle.com/events/mass-and-preaching-337/
LOCATION:St. Francis de Sales\, 1375 S Camino Seco\, Tucson\, AZ\, 85710\, United States
END:VEVENT
BEGIN:VEVENT
DTSTART;TZID=America/Phoenix:20250416T171500
DTEND;TZID=America/Phoenix:20250416T174500
DTSTAMP:20260425T175609
CREATED:20250226T233249Z
LAST-MODIFIED:20250226T233249Z
UID:22529-1744823700-1744825500@nathan-castle.com
SUMMARY:Mass and Preaching
DESCRIPTION:
URL:https://nathan-castle.com/events/mass-and-preaching-330/
LOCATION:St. Thomas More Newman Center\, 1615 E 2nd Street\, Tucson\, AZ\, 85719\, United States
END:VEVENT
BEGIN:VEVENT
DTSTART;TZID=America/Phoenix:20250414T083000
DTEND;TZID=America/Phoenix:20250414T090000
DTSTAMP:20260425T175609
CREATED:20250226T233039Z
LAST-MODIFIED:20250226T233039Z
UID:22527-1744619400-1744621200@nathan-castle.com
SUMMARY:Mass and Preaching
DESCRIPTION:
URL:https://nathan-castle.com/events/mass-and-preaching-329/
LOCATION:St. Pius X Church\, Tucson\, AZ\, 1800 N Camino Pio Decimo\, Tucson\, AZ\, 85715\, United States
END:VEVENT
BEGIN:VEVENT
DTSTART;TZID=America/Phoenix:20250409T171500
DTEND;TZID=America/Phoenix:20250409T174500
DTSTAMP:20260425T175609
CREATED:20250226T232832Z
LAST-MODIFIED:20250226T232832Z
UID:22525-1744218900-1744220700@nathan-castle.com
SUMMARY:Mass and Preaching
DESCRIPTION:
URL:https://nathan-castle.com/events/mass-and-preaching-328/
LOCATION:St. Thomas More Newman Center\, 1615 E 2nd Street\, Tucson\, AZ\, 85719\, United States
END:VEVENT
BEGIN:VEVENT
DTSTART;TZID=America/Phoenix:20250409T100000
DTEND;TZID=America/Phoenix:20250409T110000
DTSTAMP:20260425T175609
CREATED:20250307T231852Z
LAST-MODIFIED:20250307T231852Z
UID:22593-1744192800-1744196400@nathan-castle.com
SUMMARY:Conversations With Father Nathan
DESCRIPTION:
URL:https://nathan-castle.com/events/conversations-with-father-nathan-5/
LOCATION:AZ
END:VEVENT
BEGIN:VEVENT
DTSTART;TZID=America/Phoenix:20250408T193000
DTEND;TZID=America/Phoenix:20250408T203000
DTSTAMP:20260425T175609
CREATED:20250226T232720Z
LAST-MODIFIED:20250226T232720Z
UID:22523-1744140600-1744144200@nathan-castle.com
SUMMARY:Presentation on Scripture for the Newman Center Young Adult Group
DESCRIPTION:
URL:https://nathan-castle.com/events/presentation-on-scripture-for-the-newman-center-young-adult-group/
LOCATION:St. Thomas More Newman Center\, 1615 E 2nd Street\, Tucson\, AZ\, 85719\, United States
END:VEVENT
BEGIN:VEVENT
DTSTART;TZID=America/Phoenix:20250407T083000
DTEND;TZID=America/Phoenix:20250407T090000
DTSTAMP:20260425T175609
CREATED:20250226T232530Z
LAST-MODIFIED:20250226T232530Z
UID:22521-1744014600-1744016400@nathan-castle.com
SUMMARY:Mass and Preaching
DESCRIPTION:
URL:https://nathan-castle.com/events/mass-and-preaching-327/
LOCATION:St. Pius X Church\, Tucson\, AZ\, 1800 N Camino Pio Decimo\, Tucson\, AZ\, 85715\, United States
END:VEVENT
BEGIN:VEVENT
DTSTART;TZID=America/Phoenix:20250402T171500
DTEND;TZID=America/Phoenix:20250402T174500
DTSTAMP:20260425T175609
CREATED:20250226T232406Z
LAST-MODIFIED:20250226T232406Z
UID:22519-1743614100-1743615900@nathan-castle.com
SUMMARY:Mass and Preaching
DESCRIPTION:
URL:https://nathan-castle.com/events/mass-and-preaching-326/
LOCATION:St. Thomas More Newman Center\, 1615 E 2nd Street\, Tucson\, AZ\, 85719\, United States
END:VEVENT
BEGIN:VEVENT
DTSTART;TZID=America/Phoenix:20250402T130000
DTEND;TZID=America/Phoenix:20250402T140000
DTSTAMP:20260425T175609
CREATED:20250226T232243Z
LAST-MODIFIED:20250226T232243Z
UID:22517-1743598800-1743602400@nathan-castle.com
SUMMARY:Guest Appearance on Scientific Medical Network Webinar
DESCRIPTION:
URL:https://nathan-castle.com/events/guest-appearance-on-scientific-medical-network-webinar/
LOCATION:AZ
END:VEVENT
BEGIN:VEVENT
DTSTART;TZID=America/Phoenix:20250401T100000
DTEND;TZID=America/Phoenix:20250401T110000
DTSTAMP:20260425T175609
CREATED:20250307T231409Z
LAST-MODIFIED:20250307T231409Z
UID:22591-1743501600-1743505200@nathan-castle.com
SUMMARY:Guest Appearance on "Seek Reality Podcast" with Roberta Grimes
DESCRIPTION:
URL:https://nathan-castle.com/events/guest-appearance-on-seek-reality-podcast-with-roberta-grimes-2/
LOCATION:AZ
END:VEVENT
BEGIN:VEVENT
DTSTART;TZID=America/Phoenix:20250331T083000
DTEND;TZID=America/Phoenix:20250331T090000
DTSTAMP:20260425T175609
CREATED:20250225T183502Z
LAST-MODIFIED:20250225T183502Z
UID:22491-1743409800-1743411600@nathan-castle.com
SUMMARY:Mass and Preaching
DESCRIPTION:
URL:https://nathan-castle.com/events/mass-and-preaching-323/
LOCATION:St. Pius X Church\, Tucson\, AZ\, 1800 N Camino Pio Decimo\, Tucson\, AZ\, 85715\, United States
END:VEVENT
BEGIN:VEVENT
DTSTART;TZID=America/Phoenix:20250330T073000
DTEND;TZID=America/Phoenix:20250330T083000
DTSTAMP:20260425T175609
CREATED:20250225T183403Z
LAST-MODIFIED:20250225T183403Z
UID:22489-1743319800-1743323400@nathan-castle.com
SUMMARY:Mass and Preaching
DESCRIPTION:
URL:https://nathan-castle.com/events/mass-and-preaching-322/
LOCATION:St. Francis de Sales\, 1375 S Camino Seco\, Tucson\, AZ\, 85710\, United States
END:VEVENT
BEGIN:VEVENT
DTSTART;TZID=America/Phoenix:20250326T171500
DTEND;TZID=America/Phoenix:20250326T174500
DTSTAMP:20260425T175609
CREATED:20250225T183247Z
LAST-MODIFIED:20250225T183247Z
UID:22487-1743009300-1743011100@nathan-castle.com
SUMMARY:Mass and Preaching
DESCRIPTION:
URL:https://nathan-castle.com/events/mass-and-preaching-321/
LOCATION:St. Thomas More Newman Center\, 1615 E 2nd Street\, Tucson\, AZ\, 85719\, United States
END:VEVENT
BEGIN:VEVENT
DTSTART;TZID=America/Phoenix:20250324T083000
DTEND;TZID=America/Phoenix:20250324T090000
DTSTAMP:20260425T175609
CREATED:20250225T184601Z
LAST-MODIFIED:20250225T184601Z
UID:22500-1742805000-1742806800@nathan-castle.com
SUMMARY:Mass and Preaching
DESCRIPTION:
URL:https://nathan-castle.com/events/mass-and-preaching-325/
LOCATION:St. Pius X Church\, Tucson\, AZ\, 1800 N Camino Pio Decimo\, Tucson\, AZ\, 85715\, United States
END:VEVENT
BEGIN:VEVENT
DTSTART;TZID=America/Phoenix:20250322T040000
DTEND;TZID=America/Phoenix:20250322T190000
DTSTAMP:20260425T175609
CREATED:20250225T182239Z
LAST-MODIFIED:20250225T182907Z
UID:22481-1742616000-1742670000@nathan-castle.com
SUMMARY:ASU Newman Center Reunion\, Tempe\, AZ
DESCRIPTION:I’ll celebrate the 4pm mass which is open to the public. Afterwards we’ll have a party which is limited to 175 persons. Tickets must be purchased in advance. We’ll also celebrate my 40th year of priesthood\, 12 of which were spent in Tempe.
URL:https://nathan-castle.com/events/asu-newman-center-reunion-tempe-az/
LOCATION:AZ
END:VEVENT
BEGIN:VEVENT
DTSTART;TZID=America/Phoenix:20250319T093000
DTEND;TZID=America/Phoenix:20250319T130000
DTSTAMP:20260425T175609
CREATED:20250225T181937Z
LAST-MODIFIED:20250225T181937Z
UID:22479-1742376600-1742389200@nathan-castle.com
SUMMARY:Retreat Day for the Newman Center Sustaining Board
DESCRIPTION:This celebration of the Feast of St. Joseph is for a specific group and is not open to the public.
URL:https://nathan-castle.com/events/retreat-day-for-the-newman-center-sustaining-board/
LOCATION:St. Thomas More Newman Center\, 1615 E 2nd Street\, Tucson\, AZ\, 85719\, United States
END:VEVENT
BEGIN:VEVENT
DTSTART;TZID=America/Phoenix:20250317T083000
DTEND;TZID=America/Phoenix:20250317T090000
DTSTAMP:20260425T175609
CREATED:20250225T181638Z
LAST-MODIFIED:20250225T181638Z
UID:22477-1742200200-1742202000@nathan-castle.com
SUMMARY:Mass and Preaching
DESCRIPTION:
URL:https://nathan-castle.com/events/mass-and-preaching-319/
LOCATION:St. Pius X Church\, Tucson\, AZ\, 1800 N Camino Pio Decimo\, Tucson\, AZ\, 85715\, United States
END:VEVENT
BEGIN:VEVENT
DTSTART;TZID=America/Phoenix:20250316T083000
DTEND;TZID=America/Phoenix:20250316T173000
DTSTAMP:20260425T175609
CREATED:20250225T181543Z
LAST-MODIFIED:20250225T181543Z
UID:22475-1742113800-1742146200@nathan-castle.com
SUMMARY:Booth #145 Tucson Festival of Books
DESCRIPTION:Come join the fun!
URL:https://nathan-castle.com/events/booth-145-tucson-festival-of-books/
LOCATION:University of Arizona Mall
END:VEVENT
BEGIN:VEVENT
DTSTART;TZID=America/Phoenix:20250315T083000
DTEND;TZID=America/Phoenix:20250315T173000
DTSTAMP:20260425T175609
CREATED:20250225T181424Z
LAST-MODIFIED:20250225T181424Z
UID:22473-1742027400-1742059800@nathan-castle.com
SUMMARY:Booth # 145 at Tucson Festival of Books
DESCRIPTION:Come join the fun!
URL:https://nathan-castle.com/events/booth-145-at-tucson-festival-of-books/
LOCATION:University of Arizona Mall
END:VEVENT
BEGIN:VEVENT
DTSTART;TZID=America/Phoenix:20250310T083000
DTEND;TZID=America/Phoenix:20250310T090000
DTSTAMP:20260425T175609
CREATED:20250225T181203Z
LAST-MODIFIED:20250225T181203Z
UID:22471-1741595400-1741597200@nathan-castle.com
SUMMARY:Mass and Preaching
DESCRIPTION:
URL:https://nathan-castle.com/events/mass-and-preaching-318/
LOCATION:St. Pius X Church\, Tucson\, AZ\, 1800 N Camino Pio Decimo\, Tucson\, AZ\, 85715\, United States
END:VEVENT
END:VCALENDAR