BEGIN:VCALENDAR
VERSION:2.0
PRODID:-//Father Nathan Castle, O.P. - ECPv6.15.16.1//NONSGML v1.0//EN
CALSCALE:GREGORIAN
METHOD:PUBLISH
X-WR-CALNAME:Father Nathan Castle, O.P.
X-ORIGINAL-URL:https://nathan-castle.com
X-WR-CALDESC:Events for Father Nathan Castle, O.P.
REFRESH-INTERVAL;VALUE=DURATION:PT1H
X-Robots-Tag:noindex
X-PUBLISHED-TTL:PT1H
BEGIN:VTIMEZONE
TZID:America/Phoenix
BEGIN:STANDARD
TZOFFSETFROM:-0700
TZOFFSETTO:-0700
TZNAME:MST
DTSTART:20240101T000000
END:STANDARD
END:VTIMEZONE
BEGIN:VEVENT
DTSTART;TZID=America/Phoenix:20250331T083000
DTEND;TZID=America/Phoenix:20250331T090000
DTSTAMP:20260425T211312
CREATED:20250225T183502Z
LAST-MODIFIED:20250225T183502Z
UID:22491-1743409800-1743411600@nathan-castle.com
SUMMARY:Mass and Preaching
DESCRIPTION:
URL:https://nathan-castle.com/events/mass-and-preaching-323/
LOCATION:St. Pius X Church\, Tucson\, AZ\, 1800 N Camino Pio Decimo\, Tucson\, AZ\, 85715\, United States
END:VEVENT
BEGIN:VEVENT
DTSTART;TZID=America/Phoenix:20250330T073000
DTEND;TZID=America/Phoenix:20250330T083000
DTSTAMP:20260425T211312
CREATED:20250225T183403Z
LAST-MODIFIED:20250225T183403Z
UID:22489-1743319800-1743323400@nathan-castle.com
SUMMARY:Mass and Preaching
DESCRIPTION:
URL:https://nathan-castle.com/events/mass-and-preaching-322/
LOCATION:St. Francis de Sales\, 1375 S Camino Seco\, Tucson\, AZ\, 85710\, United States
END:VEVENT
BEGIN:VEVENT
DTSTART;TZID=America/Phoenix:20250326T171500
DTEND;TZID=America/Phoenix:20250326T174500
DTSTAMP:20260425T211312
CREATED:20250225T183247Z
LAST-MODIFIED:20250225T183247Z
UID:22487-1743009300-1743011100@nathan-castle.com
SUMMARY:Mass and Preaching
DESCRIPTION:
URL:https://nathan-castle.com/events/mass-and-preaching-321/
LOCATION:St. Thomas More Newman Center\, 1615 E 2nd Street\, Tucson\, AZ\, 85719\, United States
END:VEVENT
BEGIN:VEVENT
DTSTART;TZID=America/Phoenix:20250324T083000
DTEND;TZID=America/Phoenix:20250324T090000
DTSTAMP:20260425T211312
CREATED:20250225T184601Z
LAST-MODIFIED:20250225T184601Z
UID:22500-1742805000-1742806800@nathan-castle.com
SUMMARY:Mass and Preaching
DESCRIPTION:
URL:https://nathan-castle.com/events/mass-and-preaching-325/
LOCATION:St. Pius X Church\, Tucson\, AZ\, 1800 N Camino Pio Decimo\, Tucson\, AZ\, 85715\, United States
END:VEVENT
BEGIN:VEVENT
DTSTART;TZID=America/Phoenix:20250322T040000
DTEND;TZID=America/Phoenix:20250322T190000
DTSTAMP:20260425T211312
CREATED:20250225T182239Z
LAST-MODIFIED:20250225T182907Z
UID:22481-1742616000-1742670000@nathan-castle.com
SUMMARY:ASU Newman Center Reunion\, Tempe\, AZ
DESCRIPTION:I’ll celebrate the 4pm mass which is open to the public. Afterwards we’ll have a party which is limited to 175 persons. Tickets must be purchased in advance. We’ll also celebrate my 40th year of priesthood\, 12 of which were spent in Tempe.
URL:https://nathan-castle.com/events/asu-newman-center-reunion-tempe-az/
END:VEVENT
BEGIN:VEVENT
DTSTART;TZID=America/Phoenix:20250319T093000
DTEND;TZID=America/Phoenix:20250319T130000
DTSTAMP:20260425T211312
CREATED:20250225T181937Z
LAST-MODIFIED:20250225T181937Z
UID:22479-1742376600-1742389200@nathan-castle.com
SUMMARY:Retreat Day for the Newman Center Sustaining Board
DESCRIPTION:This celebration of the Feast of St. Joseph is for a specific group and is not open to the public.
URL:https://nathan-castle.com/events/retreat-day-for-the-newman-center-sustaining-board/
LOCATION:St. Thomas More Newman Center\, 1615 E 2nd Street\, Tucson\, AZ\, 85719\, United States
END:VEVENT
BEGIN:VEVENT
DTSTART;TZID=America/Phoenix:20250317T083000
DTEND;TZID=America/Phoenix:20250317T090000
DTSTAMP:20260425T211312
CREATED:20250225T181638Z
LAST-MODIFIED:20250225T181638Z
UID:22477-1742200200-1742202000@nathan-castle.com
SUMMARY:Mass and Preaching
DESCRIPTION:
URL:https://nathan-castle.com/events/mass-and-preaching-319/
LOCATION:St. Pius X Church\, Tucson\, AZ\, 1800 N Camino Pio Decimo\, Tucson\, AZ\, 85715\, United States
END:VEVENT
BEGIN:VEVENT
DTSTART;TZID=America/Phoenix:20250316T083000
DTEND;TZID=America/Phoenix:20250316T173000
DTSTAMP:20260425T211312
CREATED:20250225T181543Z
LAST-MODIFIED:20250225T181543Z
UID:22475-1742113800-1742146200@nathan-castle.com
SUMMARY:Booth #145 Tucson Festival of Books
DESCRIPTION:Come join the fun!
URL:https://nathan-castle.com/events/booth-145-tucson-festival-of-books/
LOCATION:University of Arizona Mall
END:VEVENT
BEGIN:VEVENT
DTSTART;TZID=America/Phoenix:20250315T083000
DTEND;TZID=America/Phoenix:20250315T173000
DTSTAMP:20260425T211312
CREATED:20250225T181424Z
LAST-MODIFIED:20250225T181424Z
UID:22473-1742027400-1742059800@nathan-castle.com
SUMMARY:Booth # 145 at Tucson Festival of Books
DESCRIPTION:Come join the fun!
URL:https://nathan-castle.com/events/booth-145-at-tucson-festival-of-books/
LOCATION:University of Arizona Mall
END:VEVENT
BEGIN:VEVENT
DTSTART;TZID=America/Phoenix:20250310T083000
DTEND;TZID=America/Phoenix:20250310T090000
DTSTAMP:20260425T211312
CREATED:20250225T181203Z
LAST-MODIFIED:20250225T181203Z
UID:22471-1741595400-1741597200@nathan-castle.com
SUMMARY:Mass and Preaching
DESCRIPTION:
URL:https://nathan-castle.com/events/mass-and-preaching-318/
LOCATION:St. Pius X Church\, Tucson\, AZ\, 1800 N Camino Pio Decimo\, Tucson\, AZ\, 85715\, United States
END:VEVENT
BEGIN:VEVENT
DTSTART;TZID=America/Phoenix:20250309T170000
DTEND;TZID=America/Phoenix:20250309T180000
DTSTAMP:20260425T211312
CREATED:20250307T231012Z
LAST-MODIFIED:20250307T231012Z
UID:22589-1741539600-1741543200@nathan-castle.com
SUMMARY:Mass and Preaching
DESCRIPTION:
URL:https://nathan-castle.com/events/mass-and-preaching-336/
LOCATION:St. Thomas More Newman Center\, 1615 E 2nd Street\, Tucson\, AZ\, 85719\, United States
END:VEVENT
BEGIN:VEVENT
DTSTART;TZID=America/Phoenix:20250309T110000
DTEND;TZID=America/Phoenix:20250309T120000
DTSTAMP:20260425T211312
CREATED:20250225T181044Z
LAST-MODIFIED:20250225T183617Z
UID:22469-1741518000-1741521600@nathan-castle.com
SUMMARY:Mass and Preaching
DESCRIPTION:
URL:https://nathan-castle.com/events/mass-and-preaching-317/
LOCATION:St. Thomas More Newman Center\, 1615 E 2nd Street\, Tucson\, AZ\, 85719\, United States
END:VEVENT
BEGIN:VEVENT
DTSTART;TZID=America/Phoenix:20250308T170000
DTEND;TZID=America/Phoenix:20250308T180000
DTSTAMP:20260425T211312
CREATED:20250225T180924Z
LAST-MODIFIED:20250225T180924Z
UID:22467-1741453200-1741456800@nathan-castle.com
SUMMARY:Mass and Preaching
DESCRIPTION:
URL:https://nathan-castle.com/events/mass-and-preaching-316/
LOCATION:St. Francis de Sales\, 1375 S Camino Seco\, Tucson\, AZ\, 85710\, United States
END:VEVENT
BEGIN:VEVENT
DTSTART;TZID=America/Phoenix:20250301T093000
DTEND;TZID=America/Phoenix:20250301T103000
DTSTAMP:20260425T211312
CREATED:20241015T232102Z
LAST-MODIFIED:20250225T184146Z
UID:21884-1740821400-1740825000@nathan-castle.com
SUMMARY:Presentation for the "Life After Life Club" of Laguna Woods\, CA
DESCRIPTION:24111 Moulton Parkway\, Clubhouse 7. Please let me know in advance if you plan to attend.
URL:https://nathan-castle.com/events/presentation-for-the-life-after-life-club-of-laguna-woods-ca/
END:VEVENT
BEGIN:VEVENT
DTSTART;TZID=America/Phoenix:20250228T110000
DTEND;TZID=America/Phoenix:20250228T120000
DTSTAMP:20260425T211312
CREATED:20250225T183841Z
LAST-MODIFIED:20250225T183841Z
UID:22493-1740740400-1740744000@nathan-castle.com
SUMMARY:Attend Funeral for the Mother of Fr. Dominic DeLay\, OP
DESCRIPTION:The service will be held at St. Mark’s Church\, San Marcos\, CA.
URL:https://nathan-castle.com/events/attend-funeral-for-the-mother-of-fr-dominic-delay-op/
END:VEVENT
BEGIN:VEVENT
DTSTART;TZID=America/Phoenix:20250224T083000
DTEND;TZID=America/Phoenix:20250224T090000
DTSTAMP:20260425T211312
CREATED:20250225T184421Z
LAST-MODIFIED:20250225T184421Z
UID:22497-1740385800-1740387600@nathan-castle.com
SUMMARY:Mass and Preaching
DESCRIPTION:
URL:https://nathan-castle.com/events/mass-and-preaching-324/
LOCATION:St. Pius X Church\, Tucson\, AZ\, 1800 N Camino Pio Decimo\, Tucson\, AZ\, 85715\, United States
END:VEVENT
BEGIN:VEVENT
DTSTART;TZID=America/Phoenix:20250224T083000
DTEND;TZID=America/Phoenix:20250224T090000
DTSTAMP:20260425T211312
CREATED:20250225T183124Z
LAST-MODIFIED:20250225T183124Z
UID:22485-1740385800-1740387600@nathan-castle.com
SUMMARY:Mass and Preaching
DESCRIPTION:
URL:https://nathan-castle.com/events/mass-and-preaching-320/
LOCATION:St. Pius X Church\, Tucson\, AZ\, 1800 N Camino Pio Decimo\, Tucson\, AZ\, 85715\, United States
END:VEVENT
BEGIN:VEVENT
DTSTART;TZID=America/Phoenix:20250220T190000
DTEND;TZID=America/Phoenix:20250220T203000
DTSTAMP:20260425T211312
CREATED:20241015T231839Z
LAST-MODIFIED:20241015T231839Z
UID:21882-1740078000-1740083400@nathan-castle.com
SUMMARY:Presentation on the Liturgy of the Eucharist
DESCRIPTION:I will present on the second half of the mass for University of Arizona students exploring the possibility of becoming Catholic through the Rite of Christian Initiation of Adults.
URL:https://nathan-castle.com/events/presentation-on-the-liturgy-of-the-eucharist-2/
LOCATION:St. Thomas More Newman Center\, 1615 E 2nd Street\, Tucson\, AZ\, 85719\, United States
END:VEVENT
BEGIN:VEVENT
DTSTART;TZID=America/Phoenix:20250131T180000
DTEND;TZID=America/Phoenix:20250131T210000
DTSTAMP:20260425T211312
CREATED:20250116T210400Z
LAST-MODIFIED:20250116T210400Z
UID:22327-1738346400-1738357200@nathan-castle.com
SUMMARY:Retreat: "Changed\, Not Ended: Continuing to Love Those Who Have Died"
DESCRIPTION:We’ll be on retreat at the Redemptorist Renewal Center aka “Picture Rocks” all weekend.
URL:https://nathan-castle.com/events/retreat-changed-not-ended-continuing-to-love-those-who-have-died/
END:VEVENT
BEGIN:VEVENT
DTSTART;TZID=America/Phoenix:20250129T171500
DTEND;TZID=America/Phoenix:20250129T174500
DTSTAMP:20260425T211312
CREATED:20241214T183344Z
LAST-MODIFIED:20241214T183344Z
UID:22205-1738170900-1738172700@nathan-castle.com
SUMMARY:Mass and Preaching
DESCRIPTION:
URL:https://nathan-castle.com/events/mass-and-preaching-310/
LOCATION:St. Thomas More Newman Center\, 1615 E 2nd Street\, Tucson\, AZ\, 85719\, United States
END:VEVENT
BEGIN:VEVENT
DTSTART;TZID=America/Phoenix:20250127T083000
DTEND;TZID=America/Phoenix:20250127T090000
DTSTAMP:20260425T211312
CREATED:20250116T205340Z
LAST-MODIFIED:20250116T205340Z
UID:22325-1737966600-1737968400@nathan-castle.com
SUMMARY:Mass and Preaching
DESCRIPTION:
URL:https://nathan-castle.com/events/mass-and-preaching-315/
LOCATION:St. Pius X Church\, Tucson\, AZ\, 1800 N Camino Pio Decimo\, Tucson\, AZ\, 85715\, United States
END:VEVENT
BEGIN:VEVENT
DTSTART;TZID=America/Phoenix:20250126T073000
DTEND;TZID=America/Phoenix:20250126T083000
DTSTAMP:20260425T211312
CREATED:20250116T205139Z
LAST-MODIFIED:20250116T205139Z
UID:22323-1737876600-1737880200@nathan-castle.com
SUMMARY:Mass and Preaching
DESCRIPTION:
URL:https://nathan-castle.com/events/mass-and-preaching-314/
LOCATION:St. Francis de Sales\, 1375 S Camino Seco\, Tucson\, AZ\, 85710\, United States
END:VEVENT
BEGIN:VEVENT
DTSTART;TZID=America/Phoenix:20250123T171500
DTEND;TZID=America/Phoenix:20250123T174500
DTSTAMP:20260425T211312
CREATED:20241214T183215Z
LAST-MODIFIED:20250116T205022Z
UID:22203-1737652500-1737654300@nathan-castle.com
SUMMARY:Mass and Preaching
DESCRIPTION:
URL:https://nathan-castle.com/events/mass-and-preaching-309/
LOCATION:St. Thomas More Newman Center\, 1615 E 2nd Street\, Tucson\, AZ\, 85719\, United States
END:VEVENT
BEGIN:VEVENT
DTSTART;TZID=America/Phoenix:20250120T083000
DTEND;TZID=America/Phoenix:20250120T090000
DTSTAMP:20260425T211312
CREATED:20241214T183054Z
LAST-MODIFIED:20241214T183054Z
UID:22201-1737361800-1737363600@nathan-castle.com
SUMMARY:Mass and Preaching
DESCRIPTION:
URL:https://nathan-castle.com/events/mass-and-preaching-308/
LOCATION:St. Pius X Church\, Tucson\, AZ\, 1800 N Camino Pio Decimo\, Tucson\, AZ\, 85715\, United States
END:VEVENT
BEGIN:VEVENT
DTSTART;TZID=America/Phoenix:20250119T110000
DTEND;TZID=America/Phoenix:20250119T120000
DTSTAMP:20260425T211312
CREATED:20250116T204805Z
LAST-MODIFIED:20250116T204805Z
UID:22320-1737284400-1737288000@nathan-castle.com
SUMMARY:Mass and Preaching\, Amado\, AZ
DESCRIPTION:
URL:https://nathan-castle.com/events/mass-and-preaching-amado-az/
LOCATION:Assumption Chapel\, 17 Montosa Road\, Amado\, AZ
END:VEVENT
BEGIN:VEVENT
DTSTART;TZID=America/Phoenix:20250119T090000
DTEND;TZID=America/Phoenix:20250119T100000
DTSTAMP:20260425T211312
CREATED:20250116T204421Z
LAST-MODIFIED:20250116T204605Z
UID:22318-1737277200-1737280800@nathan-castle.com
SUMMARY:Mass and Preaching\, Tubac\, AZ
DESCRIPTION:
URL:https://nathan-castle.com/events/mass-and-preaching-tubac-az/
LOCATION:St. Ann’s Church\, 11 Calle Iglesia\, Tubac\, AZ\, United States
END:VEVENT
BEGIN:VEVENT
DTSTART;TZID=America/Phoenix:20250118T170000
DTEND;TZID=America/Phoenix:20250118T180000
DTSTAMP:20260425T211312
CREATED:20250116T204259Z
LAST-MODIFIED:20250116T204259Z
UID:22316-1737219600-1737223200@nathan-castle.com
SUMMARY:Mass and Preaching in Tubac\, AZ
DESCRIPTION:
URL:https://nathan-castle.com/events/mass-and-preaching-in-tubac-az/
LOCATION:St. Ann’s Church\, 11 Calle Iglesia\, Tubac\, AZ\, United States
END:VEVENT
BEGIN:VEVENT
DTSTART;TZID=America/Phoenix:20250115T171500
DTEND;TZID=America/Phoenix:20250115T174500
DTSTAMP:20260425T211312
CREATED:20241214T182913Z
LAST-MODIFIED:20241214T182913Z
UID:22199-1736961300-1736963100@nathan-castle.com
SUMMARY:Mass and Preaching
DESCRIPTION:
URL:https://nathan-castle.com/events/mass-and-preaching-307/
LOCATION:St. Thomas More Newman Center\, 1615 E 2nd Street\, Tucson\, AZ\, 85719\, United States
END:VEVENT
BEGIN:VEVENT
DTSTART;TZID=America/Phoenix:20250115T100000
DTEND;TZID=America/Phoenix:20250115T110000
DTSTAMP:20260425T211312
CREATED:20241214T182652Z
LAST-MODIFIED:20241214T182652Z
UID:22197-1736935200-1736938800@nathan-castle.com
SUMMARY:Conversations With Father Nathan
DESCRIPTION:This Zoom conference is limited to 15 persons.
URL:https://nathan-castle.com/events/conversations-with-father-nathan-4/
END:VEVENT
BEGIN:VEVENT
DTSTART;TZID=America/Phoenix:20250113T083000
DTEND;TZID=America/Phoenix:20250113T090000
DTSTAMP:20260425T211312
CREATED:20241214T182444Z
LAST-MODIFIED:20241214T182444Z
UID:22195-1736757000-1736758800@nathan-castle.com
SUMMARY:Mass and Preaching
DESCRIPTION:
URL:https://nathan-castle.com/events/mass-and-preaching-306/
LOCATION:St. Pius X Church\, Tucson\, AZ\, 1800 N Camino Pio Decimo\, Tucson\, AZ\, 85715\, United States
END:VEVENT
END:VCALENDAR