BEGIN:VCALENDAR
VERSION:2.0
PRODID:-//Father Nathan Castle, O.P. - ECPv6.15.16.1//NONSGML v1.0//EN
CALSCALE:GREGORIAN
METHOD:PUBLISH
X-WR-CALNAME:Father Nathan Castle, O.P.
X-ORIGINAL-URL:https://nathan-castle.com
X-WR-CALDESC:Events for Father Nathan Castle, O.P.
REFRESH-INTERVAL;VALUE=DURATION:PT1H
X-Robots-Tag:noindex
X-PUBLISHED-TTL:PT1H
BEGIN:VTIMEZONE
TZID:America/Phoenix
BEGIN:STANDARD
TZOFFSETFROM:-0700
TZOFFSETTO:-0700
TZNAME:MST
DTSTART:20240101T000000
END:STANDARD
END:VTIMEZONE
BEGIN:VEVENT
DTSTART;TZID=America/Phoenix:20260330T083000
DTEND;TZID=America/Phoenix:20260330T090000
DTSTAMP:20260425T092342
CREATED:20260221T175802Z
LAST-MODIFIED:20260221T175802Z
UID:25994-1774859400-1774861200@nathan-castle.com
SUMMARY:Mass and Preaching
DESCRIPTION:
URL:https://nathan-castle.com/events/mass-and-preaching-421/
LOCATION:St. Pius X Church\, Tucson\, AZ\, 1800 N Camino Pio Decimo\, Tucson\, AZ\, 85715\, United States
END:VEVENT
BEGIN:VEVENT
DTSTART;TZID=America/Phoenix:20260329T090000
DTEND;TZID=America/Phoenix:20260329T120000
DTSTAMP:20260425T092342
CREATED:20260226T183214Z
LAST-MODIFIED:20260306T004740Z
UID:26016-1774774800-1774785600@nathan-castle.com
SUMMARY:Palm Sunday Mass and Preaching
DESCRIPTION:I will preside and preach at the 9 and 11am masses.
URL:https://nathan-castle.com/events/palm-sunday-mass-and-preaching/
LOCATION:St. Pius X Church\, Tucson\, AZ\, 1800 N Camino Pio Decimo\, Tucson\, AZ\, 85715\, United States
ATTACH;FMTTYPE=image/png:https://nathan-castle.com/wp-content/uploads/2026/02/White-and-Brown-Palm-Sunday-Instagram-Post.png
END:VEVENT
BEGIN:VEVENT
DTSTART;TZID=America/Phoenix:20260321T040000
DTEND;TZID=America/Phoenix:20260321T170000
DTSTAMP:20260425T092342
CREATED:20260221T175510Z
LAST-MODIFIED:20260306T005928Z
UID:25992-1774065600-1774112400@nathan-castle.com
SUMMARY:High School Reunion Mass
DESCRIPTION:I will concelebrate at an all-school reunion of Bishop Byrne High School in Port Arthur\, Texas.\nThe mass will be at St. James Church in Port Arthur.
URL:https://nathan-castle.com/events/high-school-reunion-mass/
ATTACH;FMTTYPE=image/png:https://nathan-castle.com/wp-content/uploads/2026/02/Screenshot-2026-03-05-175803.png
END:VEVENT
BEGIN:VEVENT
DTSTART;TZID=America/Phoenix:20260318T171500
DTEND;TZID=America/Phoenix:20260318T174500
DTSTAMP:20260425T092342
CREATED:20260221T175301Z
LAST-MODIFIED:20260221T175301Z
UID:25990-1773854100-1773855900@nathan-castle.com
SUMMARY:Mass and Preaching
DESCRIPTION:
URL:https://nathan-castle.com/events/mass-and-preaching-420/
LOCATION:St. Thomas More Newman Center\, 1615 E 2nd Street\, Tucson\, AZ\, 85719\, United States
END:VEVENT
BEGIN:VEVENT
DTSTART;TZID=America/Phoenix:20260318T100000
DTEND;TZID=America/Phoenix:20260318T110000
DTSTAMP:20260425T092342
CREATED:20260221T175125Z
LAST-MODIFIED:20260306T004229Z
UID:25988-1773828000-1773831600@nathan-castle.com
SUMMARY:Conversations With Father Nathan
DESCRIPTION:This small group discussion will be on Zoom. Suggested donation is $50. info@nathan-castle.com
URL:https://nathan-castle.com/events/conversations-with-father-nathan-9/
ATTACH;FMTTYPE=image/png:https://nathan-castle.com/wp-content/uploads/2026/02/Conversations-with-Nathan-Instagram-Post.png
END:VEVENT
BEGIN:VEVENT
DTSTART;TZID=America/Phoenix:20260316T180000
DTEND;TZID=America/Phoenix:20260316T193000
DTSTAMP:20260425T092342
CREATED:20260221T174907Z
LAST-MODIFIED:20260223T202926Z
UID:25986-1773684000-1773689400@nathan-castle.com
SUMMARY:"Love Overflowing" Lenten Parish Mission\, Part Two
DESCRIPTION:The Gospel of John is a testament to love overflowing\, serving as the central theme that connects the Last Supper to the Easter events. It transcends human emotion\, embodying a “super-abounding” divine power that emanates from God to Jesus\, and then spreads through believers to the world.
URL:https://nathan-castle.com/events/love-overflowing-lenten-parish-mission-part-two/
LOCATION:Most Holy Trinity Church\, 1300 N. Greasewood\, Tucson\, AZ\, United States
ATTACH;FMTTYPE=image/png:https://nathan-castle.com/wp-content/uploads/2026/02/Lenten-Parish-Mission-MHT-1.png
END:VEVENT
BEGIN:VEVENT
DTSTART;TZID=America/Phoenix:20260316T083000
DTEND;TZID=America/Phoenix:20260316T090000
DTSTAMP:20260425T092342
CREATED:20260221T162411Z
LAST-MODIFIED:20260221T162411Z
UID:25979-1773649800-1773651600@nathan-castle.com
SUMMARY:Mass and Preaching
DESCRIPTION:
URL:https://nathan-castle.com/events/mass-and-preaching-419/
LOCATION:St. Pius X Church\, Tucson\, AZ\, 1800 N Camino Pio Decimo\, Tucson\, AZ\, 85715\, United States
END:VEVENT
BEGIN:VEVENT
DTSTART;TZID=America/Phoenix:20260311T093000
DTEND;TZID=America/Phoenix:20260311T130000
DTSTAMP:20260425T092342
CREATED:20260221T162241Z
LAST-MODIFIED:20260223T230240Z
UID:25977-1773221400-1773234000@nathan-castle.com
SUMMARY:"May We Be One" Sustaining Board Retreat
DESCRIPTION:This private retreat for members of the Newman Center Sustaining Board will begin with mass at 9:30am. We will have two 1 1/2 hour sessions with lunch in between.
URL:https://nathan-castle.com/events/may-we-be-one-sustaining-board-retreat/
LOCATION:St. Thomas More Newman Center\, 1615 E 2nd Street\, Tucson\, AZ\, 85719\, United States
ATTACH;FMTTYPE=image/png:https://nathan-castle.com/wp-content/uploads/2026/02/Sustaining-Board-March-2026.png
END:VEVENT
BEGIN:VEVENT
DTSTART;TZID=America/Phoenix:20260309T180000
DTEND;TZID=America/Phoenix:20260309T193000
DTSTAMP:20260425T092342
CREATED:20260219T001723Z
LAST-MODIFIED:20260221T174603Z
UID:25914-1773079200-1773084600@nathan-castle.com
SUMMARY:"Love Overflowing" Lenten Parish Mission\, Part One
DESCRIPTION:The Gospel of John is a testament to love overflowing\, serving as the central theme that connects the Last Supper to the Easter events. It transcends human emotion\, embodying a “super-abounding” divine power that emanates from God to Jesus\, and then spreads through believers to the world.\n\nHttps://www.mostholytrinityparish.org
URL:https://nathan-castle.com/events/love-overflowing-lenten-parish-mission/
LOCATION:Most Holy Trinity Church\, 1300 N. Greasewood\, Tucson\, AZ\, United States
ATTACH;FMTTYPE=image/png:https://nathan-castle.com/wp-content/uploads/2026/02/Lenten-Parish-Mission-MHT-1.png
END:VEVENT
BEGIN:VEVENT
DTSTART;TZID=America/Phoenix:20260309T083000
DTEND;TZID=America/Phoenix:20260309T090000
DTSTAMP:20260425T092342
CREATED:20260221T161911Z
LAST-MODIFIED:20260221T161911Z
UID:25975-1773045000-1773046800@nathan-castle.com
SUMMARY:Mass and Preaching
DESCRIPTION:
URL:https://nathan-castle.com/events/mass-and-preaching-418/
LOCATION:St. Pius X Church\, Tucson\, AZ\, 1800 N Camino Pio Decimo\, Tucson\, AZ\, 85715\, United States
END:VEVENT
BEGIN:VEVENT
DTSTART;TZID=America/Phoenix:20260307T170000
DTEND;TZID=America/Phoenix:20260307T180000
DTSTAMP:20260425T092342
CREATED:20260226T182421Z
LAST-MODIFIED:20260226T182421Z
UID:26014-1772902800-1772906400@nathan-castle.com
SUMMARY:Mass and Preaching
DESCRIPTION:
URL:https://nathan-castle.com/events/mass-and-preaching-423/
LOCATION:St. Pius X Church\, Tucson\, AZ\, 1800 N Camino Pio Decimo\, Tucson\, AZ\, 85715\, United States
END:VEVENT
BEGIN:VEVENT
DTSTART;TZID=America/Phoenix:20260304T171500
DTEND;TZID=America/Phoenix:20260304T174500
DTSTAMP:20260425T092342
CREATED:20260221T161744Z
LAST-MODIFIED:20260221T161744Z
UID:25973-1772644500-1772646300@nathan-castle.com
SUMMARY:Mass and Preaching
DESCRIPTION:
URL:https://nathan-castle.com/events/mass-and-preaching-417/
LOCATION:St. Thomas More Newman Center\, 1615 E 2nd Street\, Tucson\, AZ\, 85719\, United States
END:VEVENT
BEGIN:VEVENT
DTSTART;TZID=America/Phoenix:20260302T083000
DTEND;TZID=America/Phoenix:20260302T090000
DTSTAMP:20260425T092342
CREATED:20260221T161546Z
LAST-MODIFIED:20260221T161546Z
UID:25971-1772440200-1772442000@nathan-castle.com
SUMMARY:Mass and Preaching
DESCRIPTION:
URL:https://nathan-castle.com/events/mass-and-preaching-416/
LOCATION:St. Pius X Church\, Tucson\, AZ\, 1800 N Camino Pio Decimo\, Tucson\, AZ\, 85715\, United States
END:VEVENT
BEGIN:VEVENT
DTSTART;TZID=America/Phoenix:20260301T070000
DTEND;TZID=America/Phoenix:20260301T080000
DTSTAMP:20260425T092342
CREATED:20260226T182210Z
LAST-MODIFIED:20260226T182210Z
UID:26012-1772348400-1772352000@nathan-castle.com
SUMMARY:Mass and Preaching
DESCRIPTION:
URL:https://nathan-castle.com/events/mass-and-preaching-422/
LOCATION:St. Pius X Church\, Tucson\, AZ\, 1800 N Camino Pio Decimo\, Tucson\, AZ\, 85715\, United States
END:VEVENT
BEGIN:VEVENT
DTSTART;TZID=America/Phoenix:20260226T180000
DTEND;TZID=America/Phoenix:20260226T193000
DTSTAMP:20260425T092342
CREATED:20260223T230014Z
LAST-MODIFIED:20260223T230121Z
UID:25999-1772128800-1772134200@nathan-castle.com
SUMMARY:"Let's Get Started" Lenten Parish Mission in Tubac\, AZ.
DESCRIPTION:Meet me in Tubac\, Arizona\, at St. Ann’s Catholic Church for a Lenten Parish Mission “Let’s Get Started” February 24-26. \nRetreat sessions will be offered each evening at the hall behind the parish office from 6:00 pm to 7:30 pm. 18 Calle Baca\, Tubac\, AZ\, Tubac\, Az 85646. \nMass will be offered each day at 9:00 am at St. Ann’s Catholic Church: 11 Calle\, Iglesia\, Tubac\, AZ 85645. \nThere will be opportunities for individual appointments of 30 minutes each with Father Nathan each day from 10:00 am to 12:00 pm. Please call the office to schedule (520) 398-2646 \nSession One: Tuesday\, February 24th: Where Do I Start?\n“It’s always best to start at the beginning\,” said Glinda to Dorothy. We will prayerfully examine how we got our start on this earth\, who and what we are\, and where we’ve been so far. Once we have a sense of our current starting point\, we’ll be better prepared to start something new. \nSession Two: Wednesday\, February 25th: Being in Re-Mission.\n“Good news! You’re in remission!” This might be good medical news about one’s health and vigor after a period of trial. You might have a sense of having been given more time and new possibilities. Together\, we’ll look at how we might make ourselves available to the Spirit’s next dream for us. \nSession Three: Thursday\, February 26th: Dying\, Rising\, and New Beginnings.\nLent and Easter remind us that we don’t wither away. We die and are reborn according to the pattern made plain to us by Jesus and his beloved followers. What new adventures might await us as we grow into our undying\, eternal selves?\nSt. Ann’s Catholic Church \n2231 E. Frontage Road\, Tubac\, Az. 85646\nhttps://stannsparishtubacaz.org
URL:https://nathan-castle.com/events/25999/
ATTACH;FMTTYPE=image/png:https://nathan-castle.com/wp-content/uploads/2026/02/Lenten-Parish-Mission-St.-Anns.png
END:VEVENT
BEGIN:VEVENT
DTSTART;TZID=America/Phoenix:20260225T000000
DTEND;TZID=America/Phoenix:20260226T000000
DTSTAMP:20260425T092342
CREATED:20260218T231621Z
LAST-MODIFIED:20260223T203408Z
UID:25887-1771977600-1772064000@nathan-castle.com
SUMMARY:"Let's Get Started" Lenten Parish Mission in Tubac\, AZ
DESCRIPTION:Meet me in Tubac\, Arizona\, at St. Ann’s Catholic Church for a Lenten Parish Mission “Let’s Get Started” February 24-26. \n\n\nRetreat sessions will be offered each evening at the hall behind the parish office from 6:00 pm to 7:30 pm. 18 Calle Baca\, Tubac\, AZ\, Tubac\, Az 85646.\n\n\nMass will be offered each day at 9:00 am at St. Ann’s Catholic Church: 11 Calle\, Iglesia\, Tubac\, AZ 85645.\n\n\nThere will be opportunities for individual appointments of 30 minutes each with Father Nathan each day from 10:00 am to 12:00 pm. Please call the office to schedule (520) 398-2646\n\n\n\n \n\nSession One: Tuesday\, February 24th: Where Do I Start?\n“It’s always best to start at the beginning\,” said Glinda to Dorothy. We will prayerfully examine how we got our start on this earth\, who and what we are\, and where we’ve been so far. Once we have a sense of our current starting point\, we’ll be better prepared to start something new.\n\n\n\nSession Two: Wednesday\, February 25th: Being in Re-Mission.\n“Good news! You’re in remission!” This might be good medical news about one’s health and vigor after a period of trial. You might have a sense of having been given more time and new possibilities. Together\, we’ll look at how we might make ourselves available to the Spirit’s next dream for us.\n\n\n\nSession Three: Thursday\, February 26th: Dying\, Rising\, and New Beginnings.\nLent and Easter remind us that we don’t wither away. We die and are reborn according to the pattern made plain to us by Jesus and his beloved followers. What new adventures might await us as we grow into our undying\, eternal selves?\n\n\n\n\n\nSt. Ann’s Catholic Church\n2231 E. Frontage Road\, Tubac\, Az. 85646\nhttps://stannsparishtubacaz.org
URL:https://nathan-castle.com/events/lets-get-started-lenten-parish-mission/
LOCATION:St. Ann’s Church\, 11 Calle Iglesia\, Tubac\, AZ\, United States
ATTACH;FMTTYPE=image/png:https://nathan-castle.com/wp-content/uploads/2026/02/Lenten-Parish-Mission-St.-Anns.png
END:VEVENT
BEGIN:VEVENT
DTSTART;TZID=America/Phoenix:20260224T180000
DTEND;TZID=America/Phoenix:20260226T193000
DTSTAMP:20260425T092342
CREATED:20260223T203239Z
LAST-MODIFIED:20260223T230343Z
UID:25996-1771956000-1772134200@nathan-castle.com
SUMMARY:"Let's Get Started" Lenten Parish Mission in Tubac\, AZ.
DESCRIPTION:Meet me in Tubac\, Arizona\, at St. Ann’s Catholic Church for a Lenten Parish Mission “Let’s Get Started” February 24-26. \nRetreat sessions will be offered each evening at the hall behind the parish office from 6:00 pm to 7:30 pm. 18 Calle Baca\, Tubac\, AZ\, Tubac\, Az 85646. \nMass will be offered each day at 9:00 am at St. Ann’s Catholic Church: 11 Calle\, Iglesia\, Tubac\, AZ 85645. \nThere will be opportunities for individual appointments of 30 minutes each with Father Nathan each day from 10:00 am to 12:00 pm. Please call the office to schedule (520) 398-2646 \nSession One: Tuesday\, February 24th: Where Do I Start?\n“It’s always best to start at the beginning\,” said Glinda to Dorothy. We will prayerfully examine how we got our start on this earth\, who and what we are\, and where we’ve been so far. Once we have a sense of our current starting point\, we’ll be better prepared to start something new. \nSession Two: Wednesday\, February 25th: Being in Re-Mission.\n“Good news! You’re in remission!” This might be good medical news about one’s health and vigor after a period of trial. You might have a sense of having been given more time and new possibilities. Together\, we’ll look at how we might make ourselves available to the Spirit’s next dream for us. \nSession Three: Thursday\, February 26th: Dying\, Rising\, and New Beginnings.\nLent and Easter remind us that we don’t wither away. We die and are reborn according to the pattern made plain to us by Jesus and his beloved followers. What new adventures might await us as we grow into our undying\, eternal selves?\nSt. Ann’s Catholic Church \n2231 E. Frontage Road\, Tubac\, Az. 85646\nhttps://stannsparishtubacaz.org\n Add to calendar
URL:https://nathan-castle.com/events/lets-get-started-lenten-parish-mission-in-tubac-az/
ATTACH;FMTTYPE=image/png:https://nathan-castle.com/wp-content/uploads/2026/02/Lenten-Parish-Mission-St.-Anns.png
END:VEVENT
BEGIN:VEVENT
DTSTART;TZID=America/Phoenix:20260223T083000
DTEND;TZID=America/Phoenix:20260223T090000
DTSTAMP:20260425T092342
CREATED:20260221T161232Z
LAST-MODIFIED:20260221T161232Z
UID:25969-1771835400-1771837200@nathan-castle.com
SUMMARY:Mass and Preaching
DESCRIPTION:
URL:https://nathan-castle.com/events/mass-and-preaching-415/
LOCATION:St. Pius X Church\, Tucson\, AZ\, 1800 N Camino Pio Decimo\, Tucson\, AZ\, 85715\, United States
END:VEVENT
BEGIN:VEVENT
DTSTART;TZID=America/Phoenix:20260222T073000
DTEND;TZID=America/Phoenix:20260222T103000
DTSTAMP:20260425T092342
CREATED:20260221T161119Z
LAST-MODIFIED:20260221T161119Z
UID:25967-1771745400-1771756200@nathan-castle.com
SUMMARY:Mass and Preaching
DESCRIPTION:I will preside and preach at the 7:30 and 9:30am masses.
URL:https://nathan-castle.com/events/mass-and-preaching-414/
LOCATION:St. Francis de Sales\, 1375 S Camino Seco\, Tucson\, AZ\, 85710\, United States
END:VEVENT
BEGIN:VEVENT
DTSTART;TZID=America/Phoenix:20260221T163000
DTEND;TZID=America/Phoenix:20260221T170000
DTSTAMP:20260425T092342
CREATED:20260221T160853Z
LAST-MODIFIED:20260221T160853Z
UID:25965-1771691400-1771693200@nathan-castle.com
SUMMARY:Confessions
DESCRIPTION:
URL:https://nathan-castle.com/events/confessions/
LOCATION:St. Thomas More Newman Center\, 1615 E 2nd Street\, Tucson\, AZ\, 85719\, United States
END:VEVENT
BEGIN:VEVENT
DTSTART;VALUE=DATE:20260130
DTEND;VALUE=DATE:20260202
DTSTAMP:20260425T092342
CREATED:20260219T004435Z
LAST-MODIFIED:20260219T015419Z
UID:25919-1769731200-1769990399@nathan-castle.com
SUMMARY:Love Overflowing: Starring YOU As The Beloved Disciple
DESCRIPTION:Set in the stunning Sonoran Desert of Tucson\, AZ\, at the Redemptorist Renewal Center\, this retreat invites us to contemplate the Gospel of John in Love Overflowing. Our journey begins on Friday with evening prayer\, followed by a communal dinner and a 7 pm discussion.  \nOn Saturday\, at 9 am\, Fr. Nathan will prepare us to enter more deeply into this sacred space. Throughout the day\, he will guide us through the retreat with moments for introspection\, allowing us to pause\, slow down\, and breathe. We’ll engage in small group discussions and end the evening with prayer. \nOn Sunday\, we’ll celebrate a private mass and a prayerful culmination of the retreat. \nReservations are limited to 15 rooms\, 12 single\, 4 double occupancy\, with 1 queen bed per room. \nRegister: info@nathan-castle.com
URL:https://nathan-castle.com/events/love-overflowing-starring-you-as-the-beloved-disciple/
ATTACH;FMTTYPE=image/png:https://nathan-castle.com/wp-content/uploads/2026/02/Copy-of-Copy-of-Love-Overflowing-Retreat-2026-.png
END:VEVENT
BEGIN:VEVENT
DTSTART;TZID=America/Phoenix:20251229T083000
DTEND;TZID=America/Phoenix:20251229T090000
DTSTAMP:20260425T092342
CREATED:20250927T181846Z
LAST-MODIFIED:20260219T015648Z
UID:24031-1766997000-1766998800@nathan-castle.com
SUMMARY:Mass and Preaching
DESCRIPTION:
URL:https://nathan-castle.com/events/mass-and-preaching-413/
LOCATION:St. Pius X Church\, Tucson\, AZ\, 1800 N Camino Pio Decimo\, Tucson\, AZ\, 85715\, United States
END:VEVENT
BEGIN:VEVENT
DTSTART;TZID=America/Phoenix:20251224T150000
DTEND;TZID=America/Phoenix:20251224T160000
DTSTAMP:20260425T092342
CREATED:20250912T215827Z
LAST-MODIFIED:20250912T215827Z
UID:23840-1766588400-1766592000@nathan-castle.com
SUMMARY:Christmas Eve Mass
DESCRIPTION:
URL:https://nathan-castle.com/events/christmas-eve-mass/
LOCATION:St. Pius X Church\, Tucson\, AZ\, 1800 N Camino Pio Decimo\, Tucson\, AZ\, 85715\, United States
END:VEVENT
BEGIN:VEVENT
DTSTART;TZID=America/Phoenix:20251222T083000
DTEND;TZID=America/Phoenix:20251222T090000
DTSTAMP:20260425T092342
CREATED:20250927T181707Z
LAST-MODIFIED:20250927T181707Z
UID:24029-1766392200-1766394000@nathan-castle.com
SUMMARY:Mass and Preaching
DESCRIPTION:
URL:https://nathan-castle.com/events/mass-and-preaching-412/
LOCATION:St. Pius X Church\, Tucson\, AZ\, 1800 N Camino Pio Decimo\, Tucson\, AZ\, 85715\, United States
END:VEVENT
BEGIN:VEVENT
DTSTART;TZID=America/Phoenix:20251214T140000
DTEND;TZID=America/Phoenix:20251214T153000
DTSTAMP:20260425T092342
CREATED:20250927T181509Z
LAST-MODIFIED:20250927T181509Z
UID:24026-1765720800-1765726200@nathan-castle.com
SUMMARY:Presentation for IANDS\, Peoria\, AZ
DESCRIPTION:
URL:https://nathan-castle.com/events/presentation-for-iands-peoria-az/
LOCATION:9720 W. Peoria\, Suite 108\, 9720 W. Peoria\, Suite 108\, Peoria\, AZ\, 85345\, United States
END:VEVENT
BEGIN:VEVENT
DTSTART;TZID=America/Phoenix:20251213T140000
DTEND;TZID=America/Phoenix:20251213T153000
DTSTAMP:20260425T092342
CREATED:20250927T181125Z
LAST-MODIFIED:20250927T181125Z
UID:24023-1765634400-1765639800@nathan-castle.com
SUMMARY:Presentation for IANDS\, Tempe
DESCRIPTION:
URL:https://nathan-castle.com/events/presentation-for-iands-tempe/
LOCATION:The Shrine of Holy Wisdom\, 5025 S Ash Avenue\, AZ\, 85282\, United States
END:VEVENT
BEGIN:VEVENT
DTSTART;TZID=America/Phoenix:20251212T183000
DTEND;TZID=America/Phoenix:20251212T200000
DTSTAMP:20260425T092342
CREATED:20250927T180805Z
LAST-MODIFIED:20250927T180805Z
UID:24020-1765564200-1765569600@nathan-castle.com
SUMMARY:Presentation for IANDS Tucson
DESCRIPTION:
URL:https://nathan-castle.com/events/presentation-for-iands-tucson/
LOCATION:Unity Church of Tucson\, 3617 N Camino Blanco\, Tucson\, AZ\, United States
END:VEVENT
BEGIN:VEVENT
DTSTART;TZID=America/Phoenix:20251208T083000
DTEND;TZID=America/Phoenix:20251208T093000
DTSTAMP:20260425T092342
CREATED:20250927T175650Z
LAST-MODIFIED:20250927T175650Z
UID:24016-1765182600-1765186200@nathan-castle.com
SUMMARY:Mass and Preaching
DESCRIPTION:
URL:https://nathan-castle.com/events/mass-and-preaching-411/
LOCATION:St. Pius X Church\, Tucson\, AZ\, 1800 N Camino Pio Decimo\, Tucson\, AZ\, 85715\, United States
END:VEVENT
BEGIN:VEVENT
DTSTART;TZID=America/Phoenix:20251203T171500
DTEND;TZID=America/Phoenix:20251203T174500
DTSTAMP:20260425T092342
CREATED:20250927T175419Z
LAST-MODIFIED:20250927T175419Z
UID:24014-1764782100-1764783900@nathan-castle.com
SUMMARY:Mass and Preaching
DESCRIPTION:
URL:https://nathan-castle.com/events/mass-and-preaching-410/
LOCATION:St. Thomas More Newman Center\, 1615 E 2nd Street\, Tucson\, AZ\, 85719\, United States
END:VEVENT
BEGIN:VEVENT
DTSTART;TZID=America/Phoenix:20251201T083000
DTEND;TZID=America/Phoenix:20251201T090000
DTSTAMP:20260425T092342
CREATED:20250927T175153Z
LAST-MODIFIED:20250927T175153Z
UID:24012-1764577800-1764579600@nathan-castle.com
SUMMARY:Mass and Preaching
DESCRIPTION:
URL:https://nathan-castle.com/events/mass-and-preaching-409/
LOCATION:St. Pius X Church\, Tucson\, AZ\, 1800 N Camino Pio Decimo\, Tucson\, AZ\, 85715\, United States
END:VEVENT
END:VCALENDAR