BEGIN:VCALENDAR
VERSION:2.0
PRODID:-//Father Nathan Castle, O.P. - ECPv6.15.16.1//NONSGML v1.0//EN
CALSCALE:GREGORIAN
METHOD:PUBLISH
X-WR-CALNAME:Father Nathan Castle, O.P.
X-ORIGINAL-URL:https://nathan-castle.com
X-WR-CALDESC:Events for Father Nathan Castle, O.P.
REFRESH-INTERVAL;VALUE=DURATION:PT1H
X-Robots-Tag:noindex
X-PUBLISHED-TTL:PT1H
BEGIN:VTIMEZONE
TZID:America/Phoenix
BEGIN:STANDARD
TZOFFSETFROM:-0700
TZOFFSETTO:-0700
TZNAME:MST
DTSTART:20240101T000000
END:STANDARD
END:VTIMEZONE
BEGIN:VEVENT
DTSTART;TZID=America/Phoenix:20251105T171500
DTEND;TZID=America/Phoenix:20251105T174500
DTSTAMP:20260425T051824
CREATED:20250922T185851Z
LAST-MODIFIED:20250922T185851Z
UID:23928-1762362900-1762364700@nathan-castle.com
SUMMARY:Mass and Preaching
DESCRIPTION:
URL:https://nathan-castle.com/events/mass-and-preaching-399/
LOCATION:St. Thomas More Newman Center\, 1615 E 2nd Street\, Tucson\, AZ\, 85719\, United States
END:VEVENT
BEGIN:VEVENT
DTSTART;TZID=America/Phoenix:20251104T120000
DTEND;TZID=America/Phoenix:20251104T140000
DTSTAMP:20260425T051824
CREATED:20250923T185327Z
LAST-MODIFIED:20250923T185327Z
UID:23953-1762257600-1762264800@nathan-castle.com
SUMMARY:Zoom Call with Branson \, MO\, Book Club re Afterlife\, Interrupted Book 1
DESCRIPTION:
URL:https://nathan-castle.com/events/zoom-call-with-branson-mo-book-club-re-afterlife-interrupted-book-1-2/
LOCATION:AZ
END:VEVENT
BEGIN:VEVENT
DTSTART;TZID=America/Phoenix:20251104T110000
DTEND;TZID=America/Phoenix:20251104T120000
DTSTAMP:20260425T051824
CREATED:20250908T221156Z
LAST-MODIFIED:20250908T221156Z
UID:23808-1762254000-1762257600@nathan-castle.com
SUMMARY:Guest Appearance on Seek Reality Podcast with Roberta Grimes
DESCRIPTION:
URL:https://nathan-castle.com/events/guest-appearance-on-seek-reality-podcast-with-roberta-grimes-3/
LOCATION:AZ
END:VEVENT
BEGIN:VEVENT
DTSTART;TZID=America/Phoenix:20251103T080000
DTEND;TZID=America/Phoenix:20251103T170000
DTSTAMP:20260425T051824
CREATED:20250825T175600Z
LAST-MODIFIED:20250825T175600Z
UID:23732-1762156800-1762189200@nathan-castle.com
SUMMARY:Mass and Preaching
DESCRIPTION:
URL:https://nathan-castle.com/events/mass-and-preaching-392/
LOCATION:St. Pius X Church\, Tucson\, AZ\, 1800 N Camino Pio Decimo\, Tucson\, AZ\, 85715\, United States
END:VEVENT
BEGIN:VEVENT
DTSTART;TZID=America/Phoenix:20251102T073000
DTEND;TZID=America/Phoenix:20251102T103000
DTSTAMP:20260425T051824
CREATED:20250925T164612Z
LAST-MODIFIED:20250925T164612Z
UID:23991-1762068600-1762079400@nathan-castle.com
SUMMARY:Mass and Preaching
DESCRIPTION:I will preside at the 7:30am and 9:30am masses.
URL:https://nathan-castle.com/events/mass-and-preaching-406/
LOCATION:St. Francis de Sales\, 1375 S Camino Seco\, Tucson\, AZ\, 85710\, United States
END:VEVENT
BEGIN:VEVENT
DTSTART;TZID=America/Phoenix:20251029T171500
DTEND;TZID=America/Phoenix:20251029T174500
DTSTAMP:20260425T051824
CREATED:20250922T185633Z
LAST-MODIFIED:20250922T185633Z
UID:23926-1761758100-1761759900@nathan-castle.com
SUMMARY:Mass and Preaching
DESCRIPTION:
URL:https://nathan-castle.com/events/mass-and-preaching-398/
LOCATION:St. Thomas More Newman Center\, 1615 E 2nd Street\, Tucson\, AZ\, 85719\, United States
END:VEVENT
BEGIN:VEVENT
DTSTART;TZID=America/Phoenix:20251028T100000
DTEND;TZID=America/Phoenix:20251028T110000
DTSTAMP:20260425T051824
CREATED:20250927T175942Z
LAST-MODIFIED:20250927T175942Z
UID:24018-1761645600-1761649200@nathan-castle.com
SUMMARY:The Joyful Friar Podcast: Interview Guest Carl McColman
DESCRIPTION:
URL:https://nathan-castle.com/events/the-joyful-friar-podcast-interview-guest-carl-mccolman/
LOCATION:AZ
END:VEVENT
BEGIN:VEVENT
DTSTART;VALUE=DATE:20251026
DTEND;VALUE=DATE:20251027
DTSTAMP:20260425T051824
CREATED:20250505T224418Z
LAST-MODIFIED:20250505T224418Z
UID:22972-1761436800-1761523199@nathan-castle.com
SUMMARY:ReVision Retreat with Father Richard Rohr in Albuquerque\, NM
DESCRIPTION:
URL:https://nathan-castle.com/events/revision-retreat-with-father-richard-rohr-in-albuquerque-nm-3/
LOCATION:AZ
END:VEVENT
BEGIN:VEVENT
DTSTART;VALUE=DATE:20251025
DTEND;VALUE=DATE:20251026
DTSTAMP:20260425T051824
CREATED:20250505T224337Z
LAST-MODIFIED:20250505T224337Z
UID:22970-1761350400-1761436799@nathan-castle.com
SUMMARY:ReVision Retreat with Father Richard Rohr in Albuquerque\, NM
DESCRIPTION:
URL:https://nathan-castle.com/events/revision-retreat-with-father-richard-rohr-in-albuquerque-nm-2/
LOCATION:AZ
END:VEVENT
BEGIN:VEVENT
DTSTART;VALUE=DATE:20251024
DTEND;VALUE=DATE:20251025
DTSTAMP:20260425T051824
CREATED:20250505T224250Z
LAST-MODIFIED:20250505T224250Z
UID:22968-1761264000-1761350399@nathan-castle.com
SUMMARY:ReVision Retreat with Father Richard Rohr in Albuquerque\, NM
DESCRIPTION:
URL:https://nathan-castle.com/events/revision-retreat-with-father-richard-rohr-in-albuquerque-nm/
LOCATION:AZ
END:VEVENT
BEGIN:VEVENT
DTSTART;TZID=America/Phoenix:20251022T171500
DTEND;TZID=America/Phoenix:20251022T174500
DTSTAMP:20260425T051824
CREATED:20250923T185020Z
LAST-MODIFIED:20250923T185020Z
UID:23950-1761153300-1761155100@nathan-castle.com
SUMMARY:Mass and Preaching
DESCRIPTION:
URL:https://nathan-castle.com/events/mass-and-preaching-400/
LOCATION:St. Thomas More Newman Center\, 1615 E 2nd Street\, Tucson\, AZ\, 85719\, United States
END:VEVENT
BEGIN:VEVENT
DTSTART;TZID=America/Phoenix:20251022T100000
DTEND;TZID=America/Phoenix:20251022T110000
DTSTAMP:20260425T051824
CREATED:20250922T185415Z
LAST-MODIFIED:20250922T185415Z
UID:23924-1761127200-1761130800@nathan-castle.com
SUMMARY:Conversation With Father Nathan
DESCRIPTION:
URL:https://nathan-castle.com/events/conversation-with-father-nathan/
LOCATION:AZ
END:VEVENT
BEGIN:VEVENT
DTSTART;TZID=America/Phoenix:20251020T083000
DTEND;TZID=America/Phoenix:20251020T090000
DTSTAMP:20260425T051824
CREATED:20250825T175431Z
LAST-MODIFIED:20251020T154136Z
UID:23730-1760949000-1760950800@nathan-castle.com
SUMMARY:Mass and Preaching
DESCRIPTION:
URL:https://nathan-castle.com/events/mass-and-preaching-391/
LOCATION:St. Pius X Church\, Tucson\, AZ\, 1800 N Camino Pio Decimo\, Tucson\, AZ\, 85715\, United States
ATTACH;FMTTYPE=image/png:https://nathan-castle.com/wp-content/uploads/2025/09/changed-not-ended.png
END:VEVENT
BEGIN:VEVENT
DTSTART;TZID=America/Phoenix:20251019T090000
DTEND;TZID=America/Phoenix:20251019T120000
DTSTAMP:20260425T051824
CREATED:20250922T185221Z
LAST-MODIFIED:20250925T165134Z
UID:23922-1760864400-1760875200@nathan-castle.com
SUMMARY:Mass and Preaching
DESCRIPTION:I will preside and preach at the 9am and 11am masses.
URL:https://nathan-castle.com/events/mass-and-preaching-397/
LOCATION:St. Thomas More Newman Center\, 1615 E 2nd Street\, Tucson\, AZ\, 85719\, United States
END:VEVENT
BEGIN:VEVENT
DTSTART;TZID=America/Phoenix:20251018T171500
DTEND;TZID=America/Phoenix:20251018T181500
DTSTAMP:20260425T051824
CREATED:20250927T174715Z
LAST-MODIFIED:20250927T174715Z
UID:24010-1760807700-1760811300@nathan-castle.com
SUMMARY:Mass and Preaching
DESCRIPTION:I will hear confessions from 4 to 5pm.
URL:https://nathan-castle.com/events/mass-and-preaching-408/
LOCATION:St. Thomas More Newman Center\, 1615 E 2nd Street\, Tucson\, AZ\, 85719\, United States
END:VEVENT
BEGIN:VEVENT
DTSTART;TZID=America/Phoenix:20251012T123000
DTEND;TZID=America/Phoenix:20251012T133000
DTSTAMP:20260425T051824
CREATED:20250423T171927Z
LAST-MODIFIED:20250423T171927Z
UID:22899-1760272200-1760275800@nathan-castle.com
SUMMARY:Mass and Preaching
DESCRIPTION:
URL:https://nathan-castle.com/events/mass-and-preaching-370/
LOCATION:Blessed Sacrament Church\, Mammoth\, AZ\, United States
END:VEVENT
BEGIN:VEVENT
DTSTART;TZID=America/Phoenix:20251012T113000
DTEND;TZID=America/Phoenix:20251012T123000
DTSTAMP:20260425T051824
CREATED:20250423T171811Z
LAST-MODIFIED:20251020T154049Z
UID:22897-1760268600-1760272200@nathan-castle.com
SUMMARY:Mass and Preaching
DESCRIPTION:
URL:https://nathan-castle.com/events/mass-and-preaching-369/
LOCATION:St. Helen’s Church\, Oracle\, AZ\, United States
ATTACH;FMTTYPE=image/png:https://nathan-castle.com/wp-content/uploads/2025/09/changed-not-ended.png
END:VEVENT
BEGIN:VEVENT
DTSTART;TZID=America/Phoenix:20251012T093000
DTEND;TZID=America/Phoenix:20251012T103000
DTSTAMP:20260425T051824
CREATED:20250423T171704Z
LAST-MODIFIED:20250423T171704Z
UID:22895-1760261400-1760265000@nathan-castle.com
SUMMARY:Mass and Preaching
DESCRIPTION:
URL:https://nathan-castle.com/events/mass-and-preaching-368/
LOCATION:St. Bartholomew’s Church\, San Manuel\, AZ\, United States
END:VEVENT
BEGIN:VEVENT
DTSTART;TZID=America/Phoenix:20251012T080000
DTEND;TZID=America/Phoenix:20251012T090000
DTSTAMP:20260425T051824
CREATED:20250423T171546Z
LAST-MODIFIED:20250423T171546Z
UID:22893-1760256000-1760259600@nathan-castle.com
SUMMARY:Mass and Preaching
DESCRIPTION:
URL:https://nathan-castle.com/events/mass-and-preaching-367/
LOCATION:Blessed Sacrament Church\, Mammoth\, AZ\, United States
END:VEVENT
BEGIN:VEVENT
DTSTART;TZID=America/Phoenix:20251011T180000
DTEND;TZID=America/Phoenix:20251011T190000
DTSTAMP:20260425T051824
CREATED:20250423T171438Z
LAST-MODIFIED:20250423T171438Z
UID:22891-1760205600-1760209200@nathan-castle.com
SUMMARY:Mass and Preaching
DESCRIPTION:
URL:https://nathan-castle.com/events/mass-and-preaching-366/
LOCATION:St. Bartholomew’s Church\, San Manuel\, AZ\, United States
END:VEVENT
BEGIN:VEVENT
DTSTART;TZID=America/Phoenix:20251011T163000
DTEND;TZID=America/Phoenix:20251011T173000
DTSTAMP:20260425T051824
CREATED:20250423T171314Z
LAST-MODIFIED:20250423T171314Z
UID:22889-1760200200-1760203800@nathan-castle.com
SUMMARY:Mass and Preaching
DESCRIPTION:
URL:https://nathan-castle.com/events/mass-and-preaching-365/
LOCATION:St. Helen’s Church\, Oracle\, AZ\, United States
END:VEVENT
BEGIN:VEVENT
DTSTART;TZID=America/Phoenix:20251009T171500
DTEND;TZID=America/Phoenix:20251009T174500
DTSTAMP:20260425T051824
CREATED:20250922T185011Z
LAST-MODIFIED:20250922T185011Z
UID:23920-1760030100-1760031900@nathan-castle.com
SUMMARY:Mass and Preaching
DESCRIPTION:
URL:https://nathan-castle.com/events/mass-and-preaching-396/
LOCATION:St. Thomas More Newman Center\, 1615 E 2nd Street\, Tucson\, AZ\, 85719\, United States
END:VEVENT
BEGIN:VEVENT
DTSTART;TZID=America/Phoenix:20251006T083000
DTEND;TZID=America/Phoenix:20251006T090000
DTSTAMP:20260425T051824
CREATED:20250825T175225Z
LAST-MODIFIED:20250825T175225Z
UID:23728-1759739400-1759741200@nathan-castle.com
SUMMARY:Mass and Preaching
DESCRIPTION:
URL:https://nathan-castle.com/events/mass-and-preaching-390/
LOCATION:St. Pius X Church\, Tucson\, AZ\, 1800 N Camino Pio Decimo\, Tucson\, AZ\, 85715\, United States
END:VEVENT
BEGIN:VEVENT
DTSTART;TZID=America/Phoenix:20251005T090000
DTEND;TZID=America/Phoenix:20251005T120000
DTSTAMP:20260425T051824
CREATED:20250922T184835Z
LAST-MODIFIED:20250922T184835Z
UID:23918-1759654800-1759665600@nathan-castle.com
SUMMARY:Mass and Preaching
DESCRIPTION:I will preside and preach at the 9 and 11 am masses.
URL:https://nathan-castle.com/events/mass-and-preaching-395/
LOCATION:St. Thomas More Newman Center\, 1615 E 2nd Street\, Tucson\, AZ\, 85719\, United States
END:VEVENT
BEGIN:VEVENT
DTSTART;TZID=America/Phoenix:20251004T170000
DTEND;TZID=America/Phoenix:20251004T180000
DTSTAMP:20260425T051824
CREATED:20250823T185227Z
LAST-MODIFIED:20250823T185227Z
UID:23702-1759597200-1759600800@nathan-castle.com
SUMMARY:Mass and Preaching
DESCRIPTION:I will hear confessions from 3:30  to 4:45pm.
URL:https://nathan-castle.com/events/mass-and-preaching-387/
LOCATION:St. Rita in the Desert Church\, 13260 E Colossal. Cave Road\, Vail\, AZ\, 85641
END:VEVENT
BEGIN:VEVENT
DTSTART;TZID=America/Phoenix:20251003T163000
DTEND;TZID=America/Phoenix:20251003T173000
DTSTAMP:20260425T051824
CREATED:20250823T184540Z
LAST-MODIFIED:20250823T184540Z
UID:23700-1759509000-1759512600@nathan-castle.com
SUMMARY:Guest Appearance on "Let's Find Out" Podcast
DESCRIPTION:
URL:https://nathan-castle.com/events/guest-appearance-on-lets-find-out-podcast/
LOCATION:AZ
END:VEVENT
BEGIN:VEVENT
DTSTART;TZID=America/Phoenix:20251001T171500
DTEND;TZID=America/Phoenix:20251001T174500
DTSTAMP:20260425T051824
CREATED:20250922T184606Z
LAST-MODIFIED:20250922T184606Z
UID:23916-1759338900-1759340700@nathan-castle.com
SUMMARY:Mass and Preaching
DESCRIPTION:
URL:https://nathan-castle.com/events/mass-and-preaching-394/
LOCATION:St. Thomas More Newman Center\, 1615 E 2nd Street\, Tucson\, AZ\, 85719\, United States
END:VEVENT
BEGIN:VEVENT
DTSTART;TZID=America/Phoenix:20250930T120000
DTEND;TZID=America/Phoenix:20250930T140000
DTSTAMP:20260425T051824
CREATED:20250922T184421Z
LAST-MODIFIED:20250923T184707Z
UID:23914-1759233600-1759240800@nathan-castle.com
SUMMARY:Zoom Call with Branson \, MO\, Book Club re Afterlife\, Interrupted Book 1
DESCRIPTION:
URL:https://nathan-castle.com/events/zoom-call-with-branson-mo-book-club-re-afterlife-interrupted-book-1/
LOCATION:AZ
END:VEVENT
BEGIN:VEVENT
DTSTART;TZID=America/Phoenix:20250929T083000
DTEND;TZID=America/Phoenix:20250929T090000
DTSTAMP:20260425T051824
CREATED:20250722T160010Z
LAST-MODIFIED:20250722T160126Z
UID:23476-1759134600-1759136400@nathan-castle.com
SUMMARY:Mass and Preaching
DESCRIPTION:
URL:https://nathan-castle.com/events/mass-and-preaching-386/
LOCATION:St. Pius X Church\, Tucson\, AZ\, 1800 N Camino Pio Decimo\, Tucson\, AZ\, 85715\, United States
END:VEVENT
BEGIN:VEVENT
DTSTART;TZID=America/Phoenix:20250928T113000
DTEND;TZID=America/Phoenix:20250928T123000
DTSTAMP:20260425T051824
CREATED:20250825T175005Z
LAST-MODIFIED:20250825T175005Z
UID:23726-1759059000-1759062600@nathan-castle.com
SUMMARY:Mass and Preaching
DESCRIPTION:
URL:https://nathan-castle.com/events/mass-and-preaching-389/
LOCATION:St. Francis de Sales\, 1375 S Camino Seco\, Tucson\, AZ\, 85710\, United States
END:VEVENT
END:VCALENDAR